BEGIN:VCALENDAR
VERSION:2.0
PRODID:-//Hallands Konstmuseum - ECPv6.15.20//NONSGML v1.0//EN
CALSCALE:GREGORIAN
METHOD:PUBLISH
X-WR-CALNAME:Hallands Konstmuseum
X-ORIGINAL-URL:https://hallandskonstmuseum.se
X-WR-CALDESC:Händelser för Hallands Konstmuseum
REFRESH-INTERVAL;VALUE=DURATION:PT1H
X-Robots-Tag:noindex
X-PUBLISHED-TTL:PT1H
BEGIN:VTIMEZONE
TZID:Europe/Stockholm
BEGIN:DAYLIGHT
TZOFFSETFROM:+0100
TZOFFSETTO:+0200
TZNAME:CEST
DTSTART:20250330T010000
END:DAYLIGHT
BEGIN:STANDARD
TZOFFSETFROM:+0200
TZOFFSETTO:+0100
TZNAME:CET
DTSTART:20251026T010000
END:STANDARD
BEGIN:DAYLIGHT
TZOFFSETFROM:+0100
TZOFFSETTO:+0200
TZNAME:CEST
DTSTART:20260329T010000
END:DAYLIGHT
BEGIN:STANDARD
TZOFFSETFROM:+0200
TZOFFSETTO:+0100
TZNAME:CET
DTSTART:20261025T010000
END:STANDARD
BEGIN:DAYLIGHT
TZOFFSETFROM:+0100
TZOFFSETTO:+0200
TZNAME:CEST
DTSTART:20270328T010000
END:DAYLIGHT
BEGIN:STANDARD
TZOFFSETFROM:+0200
TZOFFSETTO:+0100
TZNAME:CET
DTSTART:20271031T010000
END:STANDARD
END:VTIMEZONE
BEGIN:VEVENT
DTSTART;TZID=Europe/Stockholm:20260502T130000
DTEND;TZID=Europe/Stockholm:20260502T134500
DTSTAMP:20260421T152655
CREATED:20251219T143138Z
LAST-MODIFIED:20251219T143138Z
UID:10002663-1777726800-1777729500@hallandskonstmuseum.se
SUMMARY:Guidad visning – Ur samlingen
DESCRIPTION:I utställningen Ur samlingen lyfter vi frågor kring konst och samlande. Resan från klassiskt regionalt museum 1933 till dagens moderna konstmuseum speglas i utställningens innehåll. Läs mer om utställningen. \nVåra guidade visningar ingår alltid i entréavgiften.
URL:https://hallandskonstmuseum.se/evenemang/guidad-visning-ur-samlingen/2026-05-02/
CATEGORIES:Aktivitet,Utställning
ATTACH;FMTTYPE=image/jpeg:https://hallandskonstmuseum.se/wp-content/uploads/2025/01/P1086530_webb.jpg
END:VEVENT
BEGIN:VEVENT
DTSTART;TZID=Europe/Stockholm:20260502T143000
DTEND;TZID=Europe/Stockholm:20260502T151500
DTSTAMP:20260421T152655
CREATED:20251219T141741Z
LAST-MODIFIED:20260212T141516Z
UID:10002567-1777732200-1777734900@hallandskonstmuseum.se
SUMMARY:Guidad visning – Eufemia
DESCRIPTION:I början av 1980-talet gick en grupp kvinnliga textilkonstnärer samman under namnet Eufemia. Nu lyfter Hallands Konstmuseum fram detta kapitel i Hallands konsthistoria\, på samma plats där allt en gång började. Läs mer om utställningen. \nVåra guidade visningar ingår alltid i entréavgiften.
URL:https://hallandskonstmuseum.se/evenemang/guidad-visning-eufemia-3/2026-05-02/
CATEGORIES:Aktivitet,Utställning
ATTACH;FMTTYPE=image/jpeg:https://hallandskonstmuseum.se/wp-content/uploads/2025/12/Eufemia_gruppbild_logga-1-scaled.jpg
END:VEVENT
BEGIN:VEVENT
DTSTART;TZID=Europe/Stockholm:20260503T130000
DTEND;TZID=Europe/Stockholm:20260503T140000
DTSTAMP:20260421T152655
CREATED:20260108T101450Z
LAST-MODIFIED:20260108T114139Z
UID:10002701-1777813200-1777816800@hallandskonstmuseum.se
SUMMARY:Husesyn - museet som konstverk
DESCRIPTION:Guidad vandring genom museet med fokus på de konstnärliga gestaltningarna i byggnaden. \nVåra guidade visningar ingår alltid i entréavgiften. \nLäs mer om de konstnärliga gestaltningarna.
URL:https://hallandskonstmuseum.se/evenemang/husesyn-museet-som-konstverk/2026-05-03/
CATEGORIES:Aktivitet
ATTACH;FMTTYPE=image/jpeg:https://hallandskonstmuseum.se/wp-content/uploads/2024/01/Rundtur_museet_2_600x340px.jpg
END:VEVENT
BEGIN:VEVENT
DTSTART;TZID=Europe/Stockholm:20260505T153000
DTEND;TZID=Europe/Stockholm:20260505T163000
DTSTAMP:20260421T152655
CREATED:20260216T125925Z
LAST-MODIFIED:20260216T130554Z
UID:10002727-1777995000-1777998600@hallandskonstmuseum.se
SUMMARY:Visning av Halmstad slott
DESCRIPTION:Halmstad slott är inget museum utan en levande arbetsplats. Några tillfällen per år öppnas dörrarna upp och ni är välkomna på en guidad tur. Hör om kungar\, konst och kriser och se hur ett modernt slott fungerar. \nKostnad 110 kr/person. Begränsat antal platser.\nEndast förköp via Nortic.
URL:https://hallandskonstmuseum.se/evenemang/visning-av-halmstad-slott/2026-05-05/3/
CATEGORIES:Aktivitet
ATTACH;FMTTYPE=image/jpeg:https://hallandskonstmuseum.se/wp-content/uploads/2026/02/DSC6253_Slottet_exterior_li_03.jpg
END:VEVENT
BEGIN:VEVENT
DTSTART;TZID=Europe/Stockholm:20260505T173000
DTEND;TZID=Europe/Stockholm:20260505T183000
DTSTAMP:20260421T152655
CREATED:20260216T125925Z
LAST-MODIFIED:20260216T130554Z
UID:10002728-1778002200-1778005800@hallandskonstmuseum.se
SUMMARY:Visning av Halmstad slott
DESCRIPTION:Halmstad slott är inget museum utan en levande arbetsplats. Några tillfällen per år öppnas dörrarna upp och ni är välkomna på en guidad tur. Hör om kungar\, konst och kriser och se hur ett modernt slott fungerar. \nKostnad 110 kr/person. Begränsat antal platser.\nEndast förköp via Nortic.
URL:https://hallandskonstmuseum.se/evenemang/visning-av-halmstad-slott/2026-05-05/2/
CATEGORIES:Aktivitet
ATTACH;FMTTYPE=image/jpeg:https://hallandskonstmuseum.se/wp-content/uploads/2026/02/DSC6253_Slottet_exterior_li_03.jpg
END:VEVENT
BEGIN:VEVENT
DTSTART;TZID=Europe/Stockholm:20260506T180000
DTEND;TZID=Europe/Stockholm:20260506T190000
DTSTAMP:20260421T152655
CREATED:20260216T114609Z
LAST-MODIFIED:20260216T114609Z
UID:10002726-1778090400-1778094000@hallandskonstmuseum.se
SUMMARY:Guidad visning – Vårsalongen
DESCRIPTION:Hallands Konstförenings jurybedömda Vårsalong är en stor konsthändelse i Halland. Låt dig guidas bland årets utvalda verk av representanter från Hallands Konstförening. Läs mer om utställningen. \nVåra guidade visningar ingår alltid i entréavgiften.
URL:https://hallandskonstmuseum.se/evenemang/guidad-visning-varsalongen/2026-05-06/
CATEGORIES:Aktivitet,Utställning
ATTACH;FMTTYPE=image/jpeg:https://hallandskonstmuseum.se/wp-content/uploads/2026/01/Varsalong_2026_utstallningsbild_utan-text.jpg
END:VEVENT
BEGIN:VEVENT
DTSTART;TZID=Europe/Stockholm:20260507T153000
DTEND;TZID=Europe/Stockholm:20260507T163000
DTSTAMP:20260421T152655
CREATED:20260216T125925Z
LAST-MODIFIED:20260216T130554Z
UID:10002729-1778167800-1778171400@hallandskonstmuseum.se
SUMMARY:Visning av Halmstad slott
DESCRIPTION:Halmstad slott är inget museum utan en levande arbetsplats. Några tillfällen per år öppnas dörrarna upp och ni är välkomna på en guidad tur. Hör om kungar\, konst och kriser och se hur ett modernt slott fungerar. \nKostnad 110 kr/person. Begränsat antal platser.\nEndast förköp via Nortic.
URL:https://hallandskonstmuseum.se/evenemang/visning-av-halmstad-slott/2026-05-07/1/
CATEGORIES:Aktivitet
ATTACH;FMTTYPE=image/jpeg:https://hallandskonstmuseum.se/wp-content/uploads/2026/02/DSC6253_Slottet_exterior_li_03.jpg
END:VEVENT
BEGIN:VEVENT
DTSTART;TZID=Europe/Stockholm:20260507T173000
DTEND;TZID=Europe/Stockholm:20260507T183000
DTSTAMP:20260421T152655
CREATED:20260216T125925Z
LAST-MODIFIED:20260216T130554Z
UID:10002730-1778175000-1778178600@hallandskonstmuseum.se
SUMMARY:Visning av Halmstad slott
DESCRIPTION:Halmstad slott är inget museum utan en levande arbetsplats. Några tillfällen per år öppnas dörrarna upp och ni är välkomna på en guidad tur. Hör om kungar\, konst och kriser och se hur ett modernt slott fungerar. \nKostnad 110 kr/person. Begränsat antal platser.\nEndast förköp via Nortic.
URL:https://hallandskonstmuseum.se/evenemang/visning-av-halmstad-slott/2026-05-07/2/
CATEGORIES:Aktivitet
ATTACH;FMTTYPE=image/jpeg:https://hallandskonstmuseum.se/wp-content/uploads/2026/02/DSC6253_Slottet_exterior_li_03.jpg
END:VEVENT
BEGIN:VEVENT
DTSTART;TZID=Europe/Stockholm:20260510T130000
DTEND;TZID=Europe/Stockholm:20260510T140000
DTSTAMP:20260421T152655
CREATED:20260108T101450Z
LAST-MODIFIED:20260108T114139Z
UID:10002702-1778418000-1778421600@hallandskonstmuseum.se
SUMMARY:Husesyn - museet som konstverk
DESCRIPTION:Guidad vandring genom museet med fokus på de konstnärliga gestaltningarna i byggnaden. \nVåra guidade visningar ingår alltid i entréavgiften. \nLäs mer om de konstnärliga gestaltningarna.
URL:https://hallandskonstmuseum.se/evenemang/husesyn-museet-som-konstverk/2026-05-10/
CATEGORIES:Aktivitet
ATTACH;FMTTYPE=image/jpeg:https://hallandskonstmuseum.se/wp-content/uploads/2024/01/Rundtur_museet_2_600x340px.jpg
END:VEVENT
BEGIN:VEVENT
DTSTART;TZID=Europe/Stockholm:20260516T143000
DTEND;TZID=Europe/Stockholm:20260516T151500
DTSTAMP:20260421T152655
CREATED:20251219T141741Z
LAST-MODIFIED:20260212T141516Z
UID:10002568-1778941800-1778944500@hallandskonstmuseum.se
SUMMARY:Guidad visning – Eufemia
DESCRIPTION:I början av 1980-talet gick en grupp kvinnliga textilkonstnärer samman under namnet Eufemia. Nu lyfter Hallands Konstmuseum fram detta kapitel i Hallands konsthistoria\, på samma plats där allt en gång började. Läs mer om utställningen. \nVåra guidade visningar ingår alltid i entréavgiften.
URL:https://hallandskonstmuseum.se/evenemang/guidad-visning-eufemia-3/2026-05-16/
CATEGORIES:Aktivitet,Utställning
ATTACH;FMTTYPE=image/jpeg:https://hallandskonstmuseum.se/wp-content/uploads/2025/12/Eufemia_gruppbild_logga-1-scaled.jpg
END:VEVENT
BEGIN:VEVENT
DTSTART;TZID=Europe/Stockholm:20260517T130000
DTEND;TZID=Europe/Stockholm:20260517T140000
DTSTAMP:20260421T152655
CREATED:20260108T101450Z
LAST-MODIFIED:20260108T114139Z
UID:10002703-1779022800-1779026400@hallandskonstmuseum.se
SUMMARY:Husesyn - museet som konstverk
DESCRIPTION:Guidad vandring genom museet med fokus på de konstnärliga gestaltningarna i byggnaden. \nVåra guidade visningar ingår alltid i entréavgiften. \nLäs mer om de konstnärliga gestaltningarna.
URL:https://hallandskonstmuseum.se/evenemang/husesyn-museet-som-konstverk/2026-05-17/
CATEGORIES:Aktivitet
ATTACH;FMTTYPE=image/jpeg:https://hallandskonstmuseum.se/wp-content/uploads/2024/01/Rundtur_museet_2_600x340px.jpg
END:VEVENT
BEGIN:VEVENT
DTSTART;TZID=Europe/Stockholm:20260517T143000
DTEND;TZID=Europe/Stockholm:20260517T151500
DTSTAMP:20260421T152655
CREATED:20251219T143422Z
LAST-MODIFIED:20251219T143422Z
UID:10002666-1779028200-1779030900@hallandskonstmuseum.se
SUMMARY:Guidad visning – Ur samlingen
DESCRIPTION:I utställningen Ur samlingen lyfter vi frågor kring konst och samlande. Resan från klassiskt regionalt museum 1933 till dagens moderna konstmuseum speglas i utställningens innehåll. Läs mer om utställningen. \nVåra guidade visningar ingår alltid i entréavgiften.
URL:https://hallandskonstmuseum.se/evenemang/guidad-visning-ur-samlingen-2/2026-05-17/
CATEGORIES:Aktivitet,Utställning
ATTACH;FMTTYPE=image/jpeg:https://hallandskonstmuseum.se/wp-content/uploads/2025/01/P1086530_webb.jpg
END:VEVENT
BEGIN:VEVENT
DTSTART;TZID=Europe/Stockholm:20260523T143000
DTEND;TZID=Europe/Stockholm:20260523T151500
DTSTAMP:20260421T152655
CREATED:20251219T141741Z
LAST-MODIFIED:20260212T141516Z
UID:10002569-1779546600-1779549300@hallandskonstmuseum.se
SUMMARY:Guidad visning – Eufemia
DESCRIPTION:I början av 1980-talet gick en grupp kvinnliga textilkonstnärer samman under namnet Eufemia. Nu lyfter Hallands Konstmuseum fram detta kapitel i Hallands konsthistoria\, på samma plats där allt en gång började. Läs mer om utställningen. \nVåra guidade visningar ingår alltid i entréavgiften.
URL:https://hallandskonstmuseum.se/evenemang/guidad-visning-eufemia-3/2026-05-23/
CATEGORIES:Aktivitet,Utställning
ATTACH;FMTTYPE=image/jpeg:https://hallandskonstmuseum.se/wp-content/uploads/2025/12/Eufemia_gruppbild_logga-1-scaled.jpg
END:VEVENT
BEGIN:VEVENT
DTSTART;TZID=Europe/Stockholm:20260524T130000
DTEND;TZID=Europe/Stockholm:20260524T140000
DTSTAMP:20260421T152655
CREATED:20260108T101450Z
LAST-MODIFIED:20260108T114139Z
UID:10002704-1779627600-1779631200@hallandskonstmuseum.se
SUMMARY:Husesyn - museet som konstverk
DESCRIPTION:Guidad vandring genom museet med fokus på de konstnärliga gestaltningarna i byggnaden. \nVåra guidade visningar ingår alltid i entréavgiften. \nLäs mer om de konstnärliga gestaltningarna.
URL:https://hallandskonstmuseum.se/evenemang/husesyn-museet-som-konstverk/2026-05-24/
CATEGORIES:Aktivitet
ATTACH;FMTTYPE=image/jpeg:https://hallandskonstmuseum.se/wp-content/uploads/2024/01/Rundtur_museet_2_600x340px.jpg
END:VEVENT
BEGIN:VEVENT
DTSTART;TZID=Europe/Stockholm:20260524T143000
DTEND;TZID=Europe/Stockholm:20260524T151500
DTSTAMP:20260421T152655
CREATED:20251219T143422Z
LAST-MODIFIED:20251219T143422Z
UID:10002667-1779633000-1779635700@hallandskonstmuseum.se
SUMMARY:Guidad visning – Ur samlingen
DESCRIPTION:I utställningen Ur samlingen lyfter vi frågor kring konst och samlande. Resan från klassiskt regionalt museum 1933 till dagens moderna konstmuseum speglas i utställningens innehåll. Läs mer om utställningen. \nVåra guidade visningar ingår alltid i entréavgiften.
URL:https://hallandskonstmuseum.se/evenemang/guidad-visning-ur-samlingen-2/2026-05-24/
CATEGORIES:Aktivitet,Utställning
ATTACH;FMTTYPE=image/jpeg:https://hallandskonstmuseum.se/wp-content/uploads/2025/01/P1086530_webb.jpg
END:VEVENT
BEGIN:VEVENT
DTSTART;TZID=Europe/Stockholm:20260530T143000
DTEND;TZID=Europe/Stockholm:20260530T151500
DTSTAMP:20260421T152655
CREATED:20251219T141741Z
LAST-MODIFIED:20260212T141516Z
UID:10002570-1780151400-1780154100@hallandskonstmuseum.se
SUMMARY:Guidad visning – Eufemia
DESCRIPTION:I början av 1980-talet gick en grupp kvinnliga textilkonstnärer samman under namnet Eufemia. Nu lyfter Hallands Konstmuseum fram detta kapitel i Hallands konsthistoria\, på samma plats där allt en gång började. Läs mer om utställningen. \nVåra guidade visningar ingår alltid i entréavgiften.
URL:https://hallandskonstmuseum.se/evenemang/guidad-visning-eufemia-3/2026-05-30/
CATEGORIES:Aktivitet,Utställning
ATTACH;FMTTYPE=image/jpeg:https://hallandskonstmuseum.se/wp-content/uploads/2025/12/Eufemia_gruppbild_logga-1-scaled.jpg
END:VEVENT
BEGIN:VEVENT
DTSTART;TZID=Europe/Stockholm:20260531T130000
DTEND;TZID=Europe/Stockholm:20260531T140000
DTSTAMP:20260421T152655
CREATED:20260108T101450Z
LAST-MODIFIED:20260108T114139Z
UID:10002705-1780232400-1780236000@hallandskonstmuseum.se
SUMMARY:Husesyn - museet som konstverk
DESCRIPTION:Guidad vandring genom museet med fokus på de konstnärliga gestaltningarna i byggnaden. \nVåra guidade visningar ingår alltid i entréavgiften. \nLäs mer om de konstnärliga gestaltningarna.
URL:https://hallandskonstmuseum.se/evenemang/husesyn-museet-som-konstverk/2026-05-31/
CATEGORIES:Aktivitet
ATTACH;FMTTYPE=image/jpeg:https://hallandskonstmuseum.se/wp-content/uploads/2024/01/Rundtur_museet_2_600x340px.jpg
END:VEVENT
BEGIN:VEVENT
DTSTART;TZID=Europe/Stockholm:20260531T143000
DTEND;TZID=Europe/Stockholm:20260531T151500
DTSTAMP:20260421T152655
CREATED:20251219T143422Z
LAST-MODIFIED:20251219T143422Z
UID:10002668-1780237800-1780240500@hallandskonstmuseum.se
SUMMARY:Guidad visning – Ur samlingen
DESCRIPTION:I utställningen Ur samlingen lyfter vi frågor kring konst och samlande. Resan från klassiskt regionalt museum 1933 till dagens moderna konstmuseum speglas i utställningens innehåll. Läs mer om utställningen. \nVåra guidade visningar ingår alltid i entréavgiften.
URL:https://hallandskonstmuseum.se/evenemang/guidad-visning-ur-samlingen-2/2026-05-31/
CATEGORIES:Aktivitet,Utställning
ATTACH;FMTTYPE=image/jpeg:https://hallandskonstmuseum.se/wp-content/uploads/2025/01/P1086530_webb.jpg
END:VEVENT
END:VCALENDAR