BEGIN:VCALENDAR
VERSION:2.0
PRODID:-//Hallands Konstmuseum - ECPv6.15.20//NONSGML v1.0//EN
CALSCALE:GREGORIAN
METHOD:PUBLISH
X-WR-CALNAME:Hallands Konstmuseum
X-ORIGINAL-URL:https://hallandskonstmuseum.se
X-WR-CALDESC:Händelser för Hallands Konstmuseum
REFRESH-INTERVAL;VALUE=DURATION:PT1H
X-Robots-Tag:noindex
X-PUBLISHED-TTL:PT1H
BEGIN:VTIMEZONE
TZID:Europe/Stockholm
BEGIN:DAYLIGHT
TZOFFSETFROM:+0100
TZOFFSETTO:+0200
TZNAME:CEST
DTSTART:20250330T010000
END:DAYLIGHT
BEGIN:STANDARD
TZOFFSETFROM:+0200
TZOFFSETTO:+0100
TZNAME:CET
DTSTART:20251026T010000
END:STANDARD
BEGIN:DAYLIGHT
TZOFFSETFROM:+0100
TZOFFSETTO:+0200
TZNAME:CEST
DTSTART:20260329T010000
END:DAYLIGHT
BEGIN:STANDARD
TZOFFSETFROM:+0200
TZOFFSETTO:+0100
TZNAME:CET
DTSTART:20261025T010000
END:STANDARD
BEGIN:DAYLIGHT
TZOFFSETFROM:+0100
TZOFFSETTO:+0200
TZNAME:CEST
DTSTART:20270328T010000
END:DAYLIGHT
BEGIN:STANDARD
TZOFFSETFROM:+0200
TZOFFSETTO:+0100
TZNAME:CET
DTSTART:20271031T010000
END:STANDARD
END:VTIMEZONE
BEGIN:VEVENT
DTSTART;TZID=Europe/Stockholm:20260425T130000
DTEND;TZID=Europe/Stockholm:20260425T134500
DTSTAMP:20260421T141831
CREATED:20251219T143138Z
LAST-MODIFIED:20251219T143138Z
UID:10002662-1777122000-1777124700@hallandskonstmuseum.se
SUMMARY:Guidad visning – Ur samlingen
DESCRIPTION:I utställningen Ur samlingen lyfter vi frågor kring konst och samlande. Resan från klassiskt regionalt museum 1933 till dagens moderna konstmuseum speglas i utställningens innehåll. Läs mer om utställningen. \nVåra guidade visningar ingår alltid i entréavgiften.
URL:https://hallandskonstmuseum.se/evenemang/guidad-visning-ur-samlingen/2026-04-25/
CATEGORIES:Aktivitet,Utställning
ATTACH;FMTTYPE=image/jpeg:https://hallandskonstmuseum.se/wp-content/uploads/2025/01/P1086530_webb.jpg
END:VEVENT
BEGIN:VEVENT
DTSTART;TZID=Europe/Stockholm:20260425T143000
DTEND;TZID=Europe/Stockholm:20260425T151500
DTSTAMP:20260421T141831
CREATED:20251219T141741Z
LAST-MODIFIED:20260212T141516Z
UID:10002566-1777127400-1777130100@hallandskonstmuseum.se
SUMMARY:Guidad visning – Eufemia
DESCRIPTION:I början av 1980-talet gick en grupp kvinnliga textilkonstnärer samman under namnet Eufemia. Nu lyfter Hallands Konstmuseum fram detta kapitel i Hallands konsthistoria\, på samma plats där allt en gång började. Läs mer om utställningen. \nVåra guidade visningar ingår alltid i entréavgiften.
URL:https://hallandskonstmuseum.se/evenemang/guidad-visning-eufemia-3/2026-04-25/
CATEGORIES:Aktivitet,Utställning
ATTACH;FMTTYPE=image/jpeg:https://hallandskonstmuseum.se/wp-content/uploads/2025/12/Eufemia_gruppbild_logga-1-scaled.jpg
END:VEVENT
BEGIN:VEVENT
DTSTART;TZID=Europe/Stockholm:20260426T143000
DTEND;TZID=Europe/Stockholm:20260426T153000
DTSTAMP:20260421T141831
CREATED:20260108T101450Z
LAST-MODIFIED:20260108T114139Z
UID:10002700-1777213800-1777217400@hallandskonstmuseum.se
SUMMARY:Husesyn - museet som konstverk
DESCRIPTION:Guidad vandring genom museet med fokus på de konstnärliga gestaltningarna i byggnaden. \nVåra guidade visningar ingår alltid i entréavgiften. \nLäs mer om de konstnärliga gestaltningarna.
URL:https://hallandskonstmuseum.se/evenemang/husesyn-museet-som-konstverk/2026-04-26/
CATEGORIES:Aktivitet
ATTACH;FMTTYPE=image/jpeg:https://hallandskonstmuseum.se/wp-content/uploads/2024/01/Rundtur_museet_2_600x340px.jpg
END:VEVENT
END:VCALENDAR