BEGIN:VCALENDAR
VERSION:2.0
PRODID:-//Hallands Konstmuseum - ECPv6.15.20//NONSGML v1.0//EN
CALSCALE:GREGORIAN
METHOD:PUBLISH
X-ORIGINAL-URL:https://hallandskonstmuseum.se
X-WR-CALDESC:Händelser för Hallands Konstmuseum
REFRESH-INTERVAL;VALUE=DURATION:PT1H
X-Robots-Tag:noindex
X-PUBLISHED-TTL:PT1H
BEGIN:VTIMEZONE
TZID:Europe/Stockholm
BEGIN:DAYLIGHT
TZOFFSETFROM:+0100
TZOFFSETTO:+0200
TZNAME:CEST
DTSTART:20240331T010000
END:DAYLIGHT
BEGIN:STANDARD
TZOFFSETFROM:+0200
TZOFFSETTO:+0100
TZNAME:CET
DTSTART:20241027T010000
END:STANDARD
BEGIN:DAYLIGHT
TZOFFSETFROM:+0100
TZOFFSETTO:+0200
TZNAME:CEST
DTSTART:20250330T010000
END:DAYLIGHT
BEGIN:STANDARD
TZOFFSETFROM:+0200
TZOFFSETTO:+0100
TZNAME:CET
DTSTART:20251026T010000
END:STANDARD
BEGIN:DAYLIGHT
TZOFFSETFROM:+0100
TZOFFSETTO:+0200
TZNAME:CEST
DTSTART:20260329T010000
END:DAYLIGHT
BEGIN:STANDARD
TZOFFSETFROM:+0200
TZOFFSETTO:+0100
TZNAME:CET
DTSTART:20261025T010000
END:STANDARD
END:VTIMEZONE
BEGIN:VEVENT
DTSTART;TZID=Europe/Stockholm:20250817T143000
DTEND;TZID=Europe/Stockholm:20250817T151500
DTSTAMP:20260422T085529
CREATED:20250605T112024Z
LAST-MODIFIED:20250917T061550Z
UID:10002034-1755441000-1755443700@hallandskonstmuseum.se
SUMMARY:Guidad visning - Över haven
DESCRIPTION:Här visas marinmåleriet\, skeppen\, resorna och samtida konstnärers tolkningar av havet. Allt ur Hallands Konstmuseums egen samling. Läs mer om utställningen. \nVåra guidade visningar ingår alltid i entréavgiften.
URL:https://hallandskonstmuseum.se/evenemang/guidad-visning-over-haven/2025-08-17/
CATEGORIES:Aktivitet,Utställning
ATTACH;FMTTYPE=image/jpeg:https://hallandskonstmuseum.se/wp-content/uploads/2025/06/Alvar-Jonson_Komposition-med-batar_webb.jpg
END:VEVENT
BEGIN:VEVENT
DTSTART;TZID=Europe/Stockholm:20250817T140000
DTEND;TZID=Europe/Stockholm:20250817T150000
DTSTAMP:20260422T085529
CREATED:20250617T123454Z
LAST-MODIFIED:20250617T124216Z
UID:10002121-1755439200-1755442800@hallandskonstmuseum.se
SUMMARY:Visning Halmstad slott
DESCRIPTION:Halmstad slott är inget museum utan en levande arbetsplats. Några tillfällen per år öppnas dörrarna upp och ni är välkomna på en guidad tur. Hör om kungar\, konst och kriser och se hur ett modernt slott fungerar.\n\nKostnad 95 kr/person. Begränsat antal platser.\n\nEndast förköp via Hallands Konstmuseums webbshop.
URL:https://hallandskonstmuseum.se/evenemang/visning-halmstad-slott/2025-08-17/1/
LOCATION:Halmstad slott\, Aschebergsgatan\, Halmstad
CATEGORIES:Aktivitet
ATTACH;FMTTYPE=image/jpeg:https://hallandskonstmuseum.se/wp-content/uploads/2025/06/DSC6254_slottet_besokare_borggarden_li_03.jpg
END:VEVENT
BEGIN:VEVENT
DTSTART;TZID=Europe/Stockholm:20250817T130000
DTEND;TZID=Europe/Stockholm:20250817T131500
DTSTAMP:20260422T085529
CREATED:20240821T123846Z
LAST-MODIFIED:20250709T072718Z
UID:10002100-1755435600-1755436500@hallandskonstmuseum.se
SUMMARY:Kort introduktion – Under ytan
DESCRIPTION:Följ med på en introduktion till utställningen Under ytan och upplev den sedan på egen hand. Låt dig omslutas av vatten genom installationer och videoverk. Läs mer om utställningen. \nVåra guidade visningar ingår alltid i entréavgiften.
URL:https://hallandskonstmuseum.se/evenemang/introduktion-till-utstallningen-under-ytan-2/2025-08-17/
CATEGORIES:Aktivitet,Utställning
ATTACH;FMTTYPE=image/jpeg:https://hallandskonstmuseum.se/wp-content/uploads/2024/08/UY_Wohlen_01_low.jpg
END:VEVENT
BEGIN:VEVENT
DTSTART;TZID=Europe/Stockholm:20250816T143000
DTEND;TZID=Europe/Stockholm:20250816T151500
DTSTAMP:20260422T085529
CREATED:20250605T095128Z
LAST-MODIFIED:20250709T073426Z
UID:10001759-1755354600-1755357300@hallandskonstmuseum.se
SUMMARY:Guidad visning – Ur samlingen
DESCRIPTION:I utställningen Ur samlingen lyfter vi frågor kring konst och samlande. Resan från klassiskt regionalt museum 1933 till dagens moderna konstmuseum speglas i utställningens innehåll. Läs mer om utställningen. \nVåra guidade visningar ingår alltid i entréavgiften.
URL:https://hallandskonstmuseum.se/evenemang/guidad-visning-ur-samlingen-36-2-2/2025-08-16/
CATEGORIES:Aktivitet,Utställning
ATTACH;FMTTYPE=image/jpeg:https://hallandskonstmuseum.se/wp-content/uploads/2025/01/P1086530_webb.jpg
END:VEVENT
BEGIN:VEVENT
DTSTART;TZID=Europe/Stockholm:20250816T130000
DTEND;TZID=Europe/Stockholm:20250816T134500
DTSTAMP:20260422T085529
CREATED:20250509T115506Z
LAST-MODIFIED:20250917T061405Z
UID:10001746-1755349200-1755351900@hallandskonstmuseum.se
SUMMARY:Guidad visning - Expedition Konst
DESCRIPTION:Expedition Konst är en samlingsutställning med verk av 13 svenska konstnärer som alla deltagit i Polarforskningssekretariatets konstprogram. I utställningen får du ta del av verk som skapats i samband med expeditioner. Läs mer om utställningen. \nVåra guidade visningar ingår alltid i entréavgiften.
URL:https://hallandskonstmuseum.se/evenemang/guidad-visning-expedition-konst-2/2025-08-16/
CATEGORIES:Aktivitet,Utställning
ATTACH;FMTTYPE=image/jpeg:https://hallandskonstmuseum.se/wp-content/uploads/2025/03/Lars-Lerin_Snow-hill-II_press.jpg
END:VEVENT
BEGIN:VEVENT
DTSTART;TZID=Europe/Stockholm:20250813T160000
DTEND;TZID=Europe/Stockholm:20250813T170000
DTSTAMP:20260422T085529
CREATED:20250617T123454Z
LAST-MODIFIED:20250617T124216Z
UID:10002120-1755100800-1755104400@hallandskonstmuseum.se
SUMMARY:Visning Halmstad slott
DESCRIPTION:Halmstad slott är inget museum utan en levande arbetsplats. Några tillfällen per år öppnas dörrarna upp och ni är välkomna på en guidad tur. Hör om kungar\, konst och kriser och se hur ett modernt slott fungerar.\n\nKostnad 95 kr/person. Begränsat antal platser.\n\nEndast förköp via Hallands Konstmuseums webbshop.
URL:https://hallandskonstmuseum.se/evenemang/visning-halmstad-slott/2025-08-13/2/
LOCATION:Halmstad slott\, Aschebergsgatan\, Halmstad
CATEGORIES:Aktivitet
ATTACH;FMTTYPE=image/jpeg:https://hallandskonstmuseum.se/wp-content/uploads/2025/06/DSC6254_slottet_besokare_borggarden_li_03.jpg
END:VEVENT
BEGIN:VEVENT
DTSTART;TZID=Europe/Stockholm:20250813T150000
DTEND;TZID=Europe/Stockholm:20250813T160000
DTSTAMP:20260422T085529
CREATED:20250617T123454Z
LAST-MODIFIED:20250617T124216Z
UID:10002119-1755097200-1755100800@hallandskonstmuseum.se
SUMMARY:Visning Halmstad slott
DESCRIPTION:Halmstad slott är inget museum utan en levande arbetsplats. Några tillfällen per år öppnas dörrarna upp och ni är välkomna på en guidad tur. Hör om kungar\, konst och kriser och se hur ett modernt slott fungerar.\n\nKostnad 95 kr/person. Begränsat antal platser.\n\nEndast förköp via Hallands Konstmuseums webbshop.
URL:https://hallandskonstmuseum.se/evenemang/visning-halmstad-slott/2025-08-13/1/
LOCATION:Halmstad slott\, Aschebergsgatan\, Halmstad
CATEGORIES:Aktivitet
ATTACH;FMTTYPE=image/jpeg:https://hallandskonstmuseum.se/wp-content/uploads/2025/06/DSC6254_slottet_besokare_borggarden_li_03.jpg
END:VEVENT
BEGIN:VEVENT
DTSTART;TZID=Europe/Stockholm:20250812T160000
DTEND;TZID=Europe/Stockholm:20250812T170000
DTSTAMP:20260422T085529
CREATED:20250617T123454Z
LAST-MODIFIED:20250617T124216Z
UID:10002118-1755014400-1755018000@hallandskonstmuseum.se
SUMMARY:Visning Halmstad slott
DESCRIPTION:Halmstad slott är inget museum utan en levande arbetsplats. Några tillfällen per år öppnas dörrarna upp och ni är välkomna på en guidad tur. Hör om kungar\, konst och kriser och se hur ett modernt slott fungerar.\n\nKostnad 95 kr/person. Begränsat antal platser.\n\nEndast förköp via Hallands Konstmuseums webbshop.
URL:https://hallandskonstmuseum.se/evenemang/visning-halmstad-slott/2025-08-12/2/
LOCATION:Halmstad slott\, Aschebergsgatan\, Halmstad
CATEGORIES:Aktivitet
ATTACH;FMTTYPE=image/jpeg:https://hallandskonstmuseum.se/wp-content/uploads/2025/06/DSC6254_slottet_besokare_borggarden_li_03.jpg
END:VEVENT
BEGIN:VEVENT
DTSTART;TZID=Europe/Stockholm:20250812T140000
DTEND;TZID=Europe/Stockholm:20250812T150000
DTSTAMP:20260422T085529
CREATED:20250617T123454Z
LAST-MODIFIED:20250617T124216Z
UID:10002117-1755007200-1755010800@hallandskonstmuseum.se
SUMMARY:Visning Halmstad slott
DESCRIPTION:Halmstad slott är inget museum utan en levande arbetsplats. Några tillfällen per år öppnas dörrarna upp och ni är välkomna på en guidad tur. Hör om kungar\, konst och kriser och se hur ett modernt slott fungerar.\n\nKostnad 95 kr/person. Begränsat antal platser.\n\nEndast förköp via Hallands Konstmuseums webbshop.
URL:https://hallandskonstmuseum.se/evenemang/visning-halmstad-slott/2025-08-12/1/
LOCATION:Halmstad slott\, Aschebergsgatan\, Halmstad
CATEGORIES:Aktivitet
ATTACH;FMTTYPE=image/jpeg:https://hallandskonstmuseum.se/wp-content/uploads/2025/06/DSC6254_slottet_besokare_borggarden_li_03.jpg
END:VEVENT
BEGIN:VEVENT
DTSTART;TZID=Europe/Stockholm:20250810T143000
DTEND;TZID=Europe/Stockholm:20250810T151500
DTSTAMP:20260422T085529
CREATED:20250605T112024Z
LAST-MODIFIED:20250917T061550Z
UID:10002033-1754836200-1754838900@hallandskonstmuseum.se
SUMMARY:Guidad visning - Över haven
DESCRIPTION:Här visas marinmåleriet\, skeppen\, resorna och samtida konstnärers tolkningar av havet. Allt ur Hallands Konstmuseums egen samling. Läs mer om utställningen. \nVåra guidade visningar ingår alltid i entréavgiften.
URL:https://hallandskonstmuseum.se/evenemang/guidad-visning-over-haven/2025-08-10/
CATEGORIES:Aktivitet,Utställning
ATTACH;FMTTYPE=image/jpeg:https://hallandskonstmuseum.se/wp-content/uploads/2025/06/Alvar-Jonson_Komposition-med-batar_webb.jpg
END:VEVENT
BEGIN:VEVENT
DTSTART;TZID=Europe/Stockholm:20250810T130000
DTEND;TZID=Europe/Stockholm:20250810T131500
DTSTAMP:20260422T085529
CREATED:20240821T123846Z
LAST-MODIFIED:20250709T072718Z
UID:10002099-1754830800-1754831700@hallandskonstmuseum.se
SUMMARY:Kort introduktion – Under ytan
DESCRIPTION:Följ med på en introduktion till utställningen Under ytan och upplev den sedan på egen hand. Låt dig omslutas av vatten genom installationer och videoverk. Läs mer om utställningen. \nVåra guidade visningar ingår alltid i entréavgiften.
URL:https://hallandskonstmuseum.se/evenemang/introduktion-till-utstallningen-under-ytan-2/2025-08-10/
CATEGORIES:Aktivitet,Utställning
ATTACH;FMTTYPE=image/jpeg:https://hallandskonstmuseum.se/wp-content/uploads/2024/08/UY_Wohlen_01_low.jpg
END:VEVENT
BEGIN:VEVENT
DTSTART;TZID=Europe/Stockholm:20250809T143000
DTEND;TZID=Europe/Stockholm:20250809T151500
DTSTAMP:20260422T085529
CREATED:20250605T095128Z
LAST-MODIFIED:20250709T073426Z
UID:10001758-1754749800-1754752500@hallandskonstmuseum.se
SUMMARY:Guidad visning – Ur samlingen
DESCRIPTION:I utställningen Ur samlingen lyfter vi frågor kring konst och samlande. Resan från klassiskt regionalt museum 1933 till dagens moderna konstmuseum speglas i utställningens innehåll. Läs mer om utställningen. \nVåra guidade visningar ingår alltid i entréavgiften.
URL:https://hallandskonstmuseum.se/evenemang/guidad-visning-ur-samlingen-36-2-2/2025-08-09/
CATEGORIES:Aktivitet,Utställning
ATTACH;FMTTYPE=image/jpeg:https://hallandskonstmuseum.se/wp-content/uploads/2025/01/P1086530_webb.jpg
END:VEVENT
BEGIN:VEVENT
DTSTART;TZID=Europe/Stockholm:20250809T130000
DTEND;TZID=Europe/Stockholm:20250809T134500
DTSTAMP:20260422T085529
CREATED:20250509T115506Z
LAST-MODIFIED:20250917T061405Z
UID:10001745-1754744400-1754747100@hallandskonstmuseum.se
SUMMARY:Guidad visning - Expedition Konst
DESCRIPTION:Expedition Konst är en samlingsutställning med verk av 13 svenska konstnärer som alla deltagit i Polarforskningssekretariatets konstprogram. I utställningen får du ta del av verk som skapats i samband med expeditioner. Läs mer om utställningen. \nVåra guidade visningar ingår alltid i entréavgiften.
URL:https://hallandskonstmuseum.se/evenemang/guidad-visning-expedition-konst-2/2025-08-09/
CATEGORIES:Aktivitet,Utställning
ATTACH;FMTTYPE=image/jpeg:https://hallandskonstmuseum.se/wp-content/uploads/2025/03/Lars-Lerin_Snow-hill-II_press.jpg
END:VEVENT
BEGIN:VEVENT
DTSTART;TZID=Europe/Stockholm:20250803T143000
DTEND;TZID=Europe/Stockholm:20250803T151500
DTSTAMP:20260422T085529
CREATED:20250605T112024Z
LAST-MODIFIED:20250917T061550Z
UID:10002032-1754231400-1754234100@hallandskonstmuseum.se
SUMMARY:Guidad visning - Över haven
DESCRIPTION:Här visas marinmåleriet\, skeppen\, resorna och samtida konstnärers tolkningar av havet. Allt ur Hallands Konstmuseums egen samling. Läs mer om utställningen. \nVåra guidade visningar ingår alltid i entréavgiften.
URL:https://hallandskonstmuseum.se/evenemang/guidad-visning-over-haven/2025-08-03/
CATEGORIES:Aktivitet,Utställning
ATTACH;FMTTYPE=image/jpeg:https://hallandskonstmuseum.se/wp-content/uploads/2025/06/Alvar-Jonson_Komposition-med-batar_webb.jpg
END:VEVENT
BEGIN:VEVENT
DTSTART;TZID=Europe/Stockholm:20250803T130000
DTEND;TZID=Europe/Stockholm:20250803T131500
DTSTAMP:20260422T085529
CREATED:20240821T123846Z
LAST-MODIFIED:20250709T072718Z
UID:10002098-1754226000-1754226900@hallandskonstmuseum.se
SUMMARY:Kort introduktion – Under ytan
DESCRIPTION:Följ med på en introduktion till utställningen Under ytan och upplev den sedan på egen hand. Låt dig omslutas av vatten genom installationer och videoverk. Läs mer om utställningen. \nVåra guidade visningar ingår alltid i entréavgiften.
URL:https://hallandskonstmuseum.se/evenemang/introduktion-till-utstallningen-under-ytan-2/2025-08-03/
CATEGORIES:Aktivitet,Utställning
ATTACH;FMTTYPE=image/jpeg:https://hallandskonstmuseum.se/wp-content/uploads/2024/08/UY_Wohlen_01_low.jpg
END:VEVENT
BEGIN:VEVENT
DTSTART;TZID=Europe/Stockholm:20250802T143000
DTEND;TZID=Europe/Stockholm:20250802T151500
DTSTAMP:20260422T085529
CREATED:20250605T095128Z
LAST-MODIFIED:20250709T073426Z
UID:10001757-1754145000-1754147700@hallandskonstmuseum.se
SUMMARY:Guidad visning – Ur samlingen
DESCRIPTION:I utställningen Ur samlingen lyfter vi frågor kring konst och samlande. Resan från klassiskt regionalt museum 1933 till dagens moderna konstmuseum speglas i utställningens innehåll. Läs mer om utställningen. \nVåra guidade visningar ingår alltid i entréavgiften.
URL:https://hallandskonstmuseum.se/evenemang/guidad-visning-ur-samlingen-36-2-2/2025-08-02/
CATEGORIES:Aktivitet,Utställning
ATTACH;FMTTYPE=image/jpeg:https://hallandskonstmuseum.se/wp-content/uploads/2025/01/P1086530_webb.jpg
END:VEVENT
BEGIN:VEVENT
DTSTART;TZID=Europe/Stockholm:20250802T130000
DTEND;TZID=Europe/Stockholm:20250802T134500
DTSTAMP:20260422T085529
CREATED:20250509T115506Z
LAST-MODIFIED:20250917T061405Z
UID:10001744-1754139600-1754142300@hallandskonstmuseum.se
SUMMARY:Guidad visning - Expedition Konst
DESCRIPTION:Expedition Konst är en samlingsutställning med verk av 13 svenska konstnärer som alla deltagit i Polarforskningssekretariatets konstprogram. I utställningen får du ta del av verk som skapats i samband med expeditioner. Läs mer om utställningen. \nVåra guidade visningar ingår alltid i entréavgiften.
URL:https://hallandskonstmuseum.se/evenemang/guidad-visning-expedition-konst-2/2025-08-02/
CATEGORIES:Aktivitet,Utställning
ATTACH;FMTTYPE=image/jpeg:https://hallandskonstmuseum.se/wp-content/uploads/2025/03/Lars-Lerin_Snow-hill-II_press.jpg
END:VEVENT
BEGIN:VEVENT
DTSTART;TZID=Europe/Stockholm:20250727T143000
DTEND;TZID=Europe/Stockholm:20250727T151500
DTSTAMP:20260422T085529
CREATED:20250605T112024Z
LAST-MODIFIED:20250917T061550Z
UID:10002031-1753626600-1753629300@hallandskonstmuseum.se
SUMMARY:Guidad visning - Över haven
DESCRIPTION:Här visas marinmåleriet\, skeppen\, resorna och samtida konstnärers tolkningar av havet. Allt ur Hallands Konstmuseums egen samling. Läs mer om utställningen. \nVåra guidade visningar ingår alltid i entréavgiften.
URL:https://hallandskonstmuseum.se/evenemang/guidad-visning-over-haven/2025-07-27/
CATEGORIES:Aktivitet,Utställning
ATTACH;FMTTYPE=image/jpeg:https://hallandskonstmuseum.se/wp-content/uploads/2025/06/Alvar-Jonson_Komposition-med-batar_webb.jpg
END:VEVENT
BEGIN:VEVENT
DTSTART;TZID=Europe/Stockholm:20250727T130000
DTEND;TZID=Europe/Stockholm:20250727T131500
DTSTAMP:20260422T085529
CREATED:20240821T123846Z
LAST-MODIFIED:20250709T072718Z
UID:10002097-1753621200-1753622100@hallandskonstmuseum.se
SUMMARY:Kort introduktion – Under ytan
DESCRIPTION:Följ med på en introduktion till utställningen Under ytan och upplev den sedan på egen hand. Låt dig omslutas av vatten genom installationer och videoverk. Läs mer om utställningen. \nVåra guidade visningar ingår alltid i entréavgiften.
URL:https://hallandskonstmuseum.se/evenemang/introduktion-till-utstallningen-under-ytan-2/2025-07-27/
CATEGORIES:Aktivitet,Utställning
ATTACH;FMTTYPE=image/jpeg:https://hallandskonstmuseum.se/wp-content/uploads/2024/08/UY_Wohlen_01_low.jpg
END:VEVENT
BEGIN:VEVENT
DTSTART;TZID=Europe/Stockholm:20250726T143000
DTEND;TZID=Europe/Stockholm:20250726T151500
DTSTAMP:20260422T085529
CREATED:20250605T095128Z
LAST-MODIFIED:20250709T073426Z
UID:10001756-1753540200-1753542900@hallandskonstmuseum.se
SUMMARY:Guidad visning – Ur samlingen
DESCRIPTION:I utställningen Ur samlingen lyfter vi frågor kring konst och samlande. Resan från klassiskt regionalt museum 1933 till dagens moderna konstmuseum speglas i utställningens innehåll. Läs mer om utställningen. \nVåra guidade visningar ingår alltid i entréavgiften.
URL:https://hallandskonstmuseum.se/evenemang/guidad-visning-ur-samlingen-36-2-2/2025-07-26/
CATEGORIES:Aktivitet,Utställning
ATTACH;FMTTYPE=image/jpeg:https://hallandskonstmuseum.se/wp-content/uploads/2025/01/P1086530_webb.jpg
END:VEVENT
BEGIN:VEVENT
DTSTART;TZID=Europe/Stockholm:20250726T130000
DTEND;TZID=Europe/Stockholm:20250726T134500
DTSTAMP:20260422T085529
CREATED:20250509T115506Z
LAST-MODIFIED:20250917T061405Z
UID:10001743-1753534800-1753537500@hallandskonstmuseum.se
SUMMARY:Guidad visning - Expedition Konst
DESCRIPTION:Expedition Konst är en samlingsutställning med verk av 13 svenska konstnärer som alla deltagit i Polarforskningssekretariatets konstprogram. I utställningen får du ta del av verk som skapats i samband med expeditioner. Läs mer om utställningen. \nVåra guidade visningar ingår alltid i entréavgiften.
URL:https://hallandskonstmuseum.se/evenemang/guidad-visning-expedition-konst-2/2025-07-26/
CATEGORIES:Aktivitet,Utställning
ATTACH;FMTTYPE=image/jpeg:https://hallandskonstmuseum.se/wp-content/uploads/2025/03/Lars-Lerin_Snow-hill-II_press.jpg
END:VEVENT
BEGIN:VEVENT
DTSTART;TZID=Europe/Stockholm:20250720T143000
DTEND;TZID=Europe/Stockholm:20250720T151500
DTSTAMP:20260422T085529
CREATED:20250605T112024Z
LAST-MODIFIED:20250917T061550Z
UID:10002030-1753021800-1753024500@hallandskonstmuseum.se
SUMMARY:Guidad visning - Över haven
DESCRIPTION:Här visas marinmåleriet\, skeppen\, resorna och samtida konstnärers tolkningar av havet. Allt ur Hallands Konstmuseums egen samling. Läs mer om utställningen. \nVåra guidade visningar ingår alltid i entréavgiften.
URL:https://hallandskonstmuseum.se/evenemang/guidad-visning-over-haven/2025-07-20/
CATEGORIES:Aktivitet,Utställning
ATTACH;FMTTYPE=image/jpeg:https://hallandskonstmuseum.se/wp-content/uploads/2025/06/Alvar-Jonson_Komposition-med-batar_webb.jpg
END:VEVENT
BEGIN:VEVENT
DTSTART;TZID=Europe/Stockholm:20250720T130000
DTEND;TZID=Europe/Stockholm:20250720T131500
DTSTAMP:20260422T085529
CREATED:20240821T123846Z
LAST-MODIFIED:20250709T072718Z
UID:10002096-1753016400-1753017300@hallandskonstmuseum.se
SUMMARY:Kort introduktion – Under ytan
DESCRIPTION:Följ med på en introduktion till utställningen Under ytan och upplev den sedan på egen hand. Låt dig omslutas av vatten genom installationer och videoverk. Läs mer om utställningen. \nVåra guidade visningar ingår alltid i entréavgiften.
URL:https://hallandskonstmuseum.se/evenemang/introduktion-till-utstallningen-under-ytan-2/2025-07-20/
CATEGORIES:Aktivitet,Utställning
ATTACH;FMTTYPE=image/jpeg:https://hallandskonstmuseum.se/wp-content/uploads/2024/08/UY_Wohlen_01_low.jpg
END:VEVENT
BEGIN:VEVENT
DTSTART;TZID=Europe/Stockholm:20250719T143000
DTEND;TZID=Europe/Stockholm:20250719T151500
DTSTAMP:20260422T085529
CREATED:20250605T095128Z
LAST-MODIFIED:20250709T073426Z
UID:10001755-1752935400-1752938100@hallandskonstmuseum.se
SUMMARY:Guidad visning – Ur samlingen
DESCRIPTION:I utställningen Ur samlingen lyfter vi frågor kring konst och samlande. Resan från klassiskt regionalt museum 1933 till dagens moderna konstmuseum speglas i utställningens innehåll. Läs mer om utställningen. \nVåra guidade visningar ingår alltid i entréavgiften.
URL:https://hallandskonstmuseum.se/evenemang/guidad-visning-ur-samlingen-36-2-2/2025-07-19/
CATEGORIES:Aktivitet,Utställning
ATTACH;FMTTYPE=image/jpeg:https://hallandskonstmuseum.se/wp-content/uploads/2025/01/P1086530_webb.jpg
END:VEVENT
BEGIN:VEVENT
DTSTART;TZID=Europe/Stockholm:20250719T130000
DTEND;TZID=Europe/Stockholm:20250719T134500
DTSTAMP:20260422T085529
CREATED:20250509T115506Z
LAST-MODIFIED:20250917T061405Z
UID:10001742-1752930000-1752932700@hallandskonstmuseum.se
SUMMARY:Guidad visning - Expedition Konst
DESCRIPTION:Expedition Konst är en samlingsutställning med verk av 13 svenska konstnärer som alla deltagit i Polarforskningssekretariatets konstprogram. I utställningen får du ta del av verk som skapats i samband med expeditioner. Läs mer om utställningen. \nVåra guidade visningar ingår alltid i entréavgiften.
URL:https://hallandskonstmuseum.se/evenemang/guidad-visning-expedition-konst-2/2025-07-19/
CATEGORIES:Aktivitet,Utställning
ATTACH;FMTTYPE=image/jpeg:https://hallandskonstmuseum.se/wp-content/uploads/2025/03/Lars-Lerin_Snow-hill-II_press.jpg
END:VEVENT
BEGIN:VEVENT
DTSTART;TZID=Europe/Stockholm:20250713T143000
DTEND;TZID=Europe/Stockholm:20250713T151500
DTSTAMP:20260422T085529
CREATED:20250605T112024Z
LAST-MODIFIED:20250917T061550Z
UID:10002029-1752417000-1752419700@hallandskonstmuseum.se
SUMMARY:Guidad visning - Över haven
DESCRIPTION:Här visas marinmåleriet\, skeppen\, resorna och samtida konstnärers tolkningar av havet. Allt ur Hallands Konstmuseums egen samling. Läs mer om utställningen. \nVåra guidade visningar ingår alltid i entréavgiften.
URL:https://hallandskonstmuseum.se/evenemang/guidad-visning-over-haven/2025-07-13/
CATEGORIES:Aktivitet,Utställning
ATTACH;FMTTYPE=image/jpeg:https://hallandskonstmuseum.se/wp-content/uploads/2025/06/Alvar-Jonson_Komposition-med-batar_webb.jpg
END:VEVENT
BEGIN:VEVENT
DTSTART;TZID=Europe/Stockholm:20250713T130000
DTEND;TZID=Europe/Stockholm:20250713T131500
DTSTAMP:20260422T085529
CREATED:20240821T123846Z
LAST-MODIFIED:20250709T072718Z
UID:10002095-1752411600-1752412500@hallandskonstmuseum.se
SUMMARY:Kort introduktion – Under ytan
DESCRIPTION:Följ med på en introduktion till utställningen Under ytan och upplev den sedan på egen hand. Låt dig omslutas av vatten genom installationer och videoverk. Läs mer om utställningen. \nVåra guidade visningar ingår alltid i entréavgiften.
URL:https://hallandskonstmuseum.se/evenemang/introduktion-till-utstallningen-under-ytan-2/2025-07-13/
CATEGORIES:Aktivitet,Utställning
ATTACH;FMTTYPE=image/jpeg:https://hallandskonstmuseum.se/wp-content/uploads/2024/08/UY_Wohlen_01_low.jpg
END:VEVENT
BEGIN:VEVENT
DTSTART;TZID=Europe/Stockholm:20250712T143000
DTEND;TZID=Europe/Stockholm:20250712T151500
DTSTAMP:20260422T085529
CREATED:20250605T095128Z
LAST-MODIFIED:20250709T073426Z
UID:10001754-1752330600-1752333300@hallandskonstmuseum.se
SUMMARY:Guidad visning – Ur samlingen
DESCRIPTION:I utställningen Ur samlingen lyfter vi frågor kring konst och samlande. Resan från klassiskt regionalt museum 1933 till dagens moderna konstmuseum speglas i utställningens innehåll. Läs mer om utställningen. \nVåra guidade visningar ingår alltid i entréavgiften.
URL:https://hallandskonstmuseum.se/evenemang/guidad-visning-ur-samlingen-36-2-2/2025-07-12/
CATEGORIES:Aktivitet,Utställning
ATTACH;FMTTYPE=image/jpeg:https://hallandskonstmuseum.se/wp-content/uploads/2025/01/P1086530_webb.jpg
END:VEVENT
BEGIN:VEVENT
DTSTART;TZID=Europe/Stockholm:20250712T130000
DTEND;TZID=Europe/Stockholm:20250712T134500
DTSTAMP:20260422T085529
CREATED:20250509T115506Z
LAST-MODIFIED:20250917T061405Z
UID:10001741-1752325200-1752327900@hallandskonstmuseum.se
SUMMARY:Guidad visning - Expedition Konst
DESCRIPTION:Expedition Konst är en samlingsutställning med verk av 13 svenska konstnärer som alla deltagit i Polarforskningssekretariatets konstprogram. I utställningen får du ta del av verk som skapats i samband med expeditioner. Läs mer om utställningen. \nVåra guidade visningar ingår alltid i entréavgiften.
URL:https://hallandskonstmuseum.se/evenemang/guidad-visning-expedition-konst-2/2025-07-12/
CATEGORIES:Aktivitet,Utställning
ATTACH;FMTTYPE=image/jpeg:https://hallandskonstmuseum.se/wp-content/uploads/2025/03/Lars-Lerin_Snow-hill-II_press.jpg
END:VEVENT
BEGIN:VEVENT
DTSTART;TZID=Europe/Stockholm:20250709T173000
DTEND;TZID=Europe/Stockholm:20250709T181500
DTSTAMP:20260422T085530
CREATED:20250605T135613Z
LAST-MODIFIED:20250627T113726Z
UID:10002106-1752082200-1752084900@hallandskonstmuseum.se
SUMMARY:Djupdykning - Under ytan med Anita Wohlén
DESCRIPTION:Vid några tillfällen per år zoomar vi in på ett eller ett par konstverk i våra utställningar. \nKonstnären Anita Wohlén bjöds in att skapa ett konstverk speciellt för utställningen Under ytan. Hör hennes tankar om hav och konst i ett samtal med utställningsintendent Hanna Svensson. Programtid ca 45 min. Läs mer om utställningen. \nVåra guidade visningar ingår alltid i entréavgiften.
URL:https://hallandskonstmuseum.se/evenemang/djupdykning-under-ytan-med-anita-wholen/
CATEGORIES:Aktivitet,Utställning
ATTACH;FMTTYPE=image/jpeg:https://hallandskonstmuseum.se/wp-content/uploads/2025/06/P1109958-1080px_16_9.jpg
END:VEVENT
END:VCALENDAR