BEGIN:VCALENDAR
VERSION:2.0
PRODID:-//Hallands Konstmuseum - ECPv6.15.20//NONSGML v1.0//EN
CALSCALE:GREGORIAN
METHOD:PUBLISH
X-WR-CALNAME:Hallands Konstmuseum
X-ORIGINAL-URL:https://hallandskonstmuseum.se
X-WR-CALDESC:Händelser för Hallands Konstmuseum
REFRESH-INTERVAL;VALUE=DURATION:PT1H
X-Robots-Tag:noindex
X-PUBLISHED-TTL:PT1H
BEGIN:VTIMEZONE
TZID:Europe/Stockholm
BEGIN:DAYLIGHT
TZOFFSETFROM:+0100
TZOFFSETTO:+0200
TZNAME:CEST
DTSTART:20250330T010000
END:DAYLIGHT
BEGIN:STANDARD
TZOFFSETFROM:+0200
TZOFFSETTO:+0100
TZNAME:CET
DTSTART:20251026T010000
END:STANDARD
BEGIN:DAYLIGHT
TZOFFSETFROM:+0100
TZOFFSETTO:+0200
TZNAME:CEST
DTSTART:20260329T010000
END:DAYLIGHT
BEGIN:STANDARD
TZOFFSETFROM:+0200
TZOFFSETTO:+0100
TZNAME:CET
DTSTART:20261025T010000
END:STANDARD
BEGIN:DAYLIGHT
TZOFFSETFROM:+0100
TZOFFSETTO:+0200
TZNAME:CEST
DTSTART:20270328T010000
END:DAYLIGHT
BEGIN:STANDARD
TZOFFSETFROM:+0200
TZOFFSETTO:+0100
TZNAME:CET
DTSTART:20271031T010000
END:STANDARD
END:VTIMEZONE
BEGIN:VEVENT
DTSTART;TZID=Europe/Stockholm:20260329T143000
DTEND;TZID=Europe/Stockholm:20260329T153000
DTSTAMP:20260421T153711
CREATED:20260108T101450Z
LAST-MODIFIED:20260108T114139Z
UID:10002696-1774794600-1774798200@hallandskonstmuseum.se
SUMMARY:Husesyn - museet som konstverk
DESCRIPTION:Guidad vandring genom museet med fokus på de konstnärliga gestaltningarna i byggnaden. \nVåra guidade visningar ingår alltid i entréavgiften. \nLäs mer om de konstnärliga gestaltningarna.
URL:https://hallandskonstmuseum.se/evenemang/husesyn-museet-som-konstverk/2026-03-29/
CATEGORIES:Aktivitet
ATTACH;FMTTYPE=image/jpeg:https://hallandskonstmuseum.se/wp-content/uploads/2024/01/Rundtur_museet_2_600x340px.jpg
END:VEVENT
BEGIN:VEVENT
DTSTART;TZID=Europe/Stockholm:20260329T130000
DTEND;TZID=Europe/Stockholm:20260329T134500
DTSTAMP:20260421T153711
CREATED:20251219T141516Z
LAST-MODIFIED:20260212T141401Z
UID:10002452-1774789200-1774791900@hallandskonstmuseum.se
SUMMARY:Guidad visning – Eufemia
DESCRIPTION:Genom en grupp kvinnliga textilkonstnärer lyfter Hallands Konstmuseum fram ett bortglömt kapitel i Hallands konsthistoria. Läs mer om utställningen. \nVåra guidade visningar ingår alltid i entréavgiften.
URL:https://hallandskonstmuseum.se/evenemang/guidad-visning-eufemia-2/2026-03-29/
CATEGORIES:Aktivitet,Utställning
ATTACH;FMTTYPE=image/jpeg:https://hallandskonstmuseum.se/wp-content/uploads/2025/12/Eufemia_gruppbild_logga-1-scaled.jpg
END:VEVENT
BEGIN:VEVENT
DTSTART;TZID=Europe/Stockholm:20260322T143000
DTEND;TZID=Europe/Stockholm:20260322T153000
DTSTAMP:20260421T153711
CREATED:20260108T101450Z
LAST-MODIFIED:20260108T114139Z
UID:10002695-1774189800-1774193400@hallandskonstmuseum.se
SUMMARY:Husesyn - museet som konstverk
DESCRIPTION:Guidad vandring genom museet med fokus på de konstnärliga gestaltningarna i byggnaden. \nVåra guidade visningar ingår alltid i entréavgiften. \nLäs mer om de konstnärliga gestaltningarna.
URL:https://hallandskonstmuseum.se/evenemang/husesyn-museet-som-konstverk/2026-03-22/
CATEGORIES:Aktivitet
ATTACH;FMTTYPE=image/jpeg:https://hallandskonstmuseum.se/wp-content/uploads/2024/01/Rundtur_museet_2_600x340px.jpg
END:VEVENT
BEGIN:VEVENT
DTSTART;TZID=Europe/Stockholm:20260322T130000
DTEND;TZID=Europe/Stockholm:20260322T134500
DTSTAMP:20260421T153711
CREATED:20251219T141516Z
LAST-MODIFIED:20260212T141401Z
UID:10002451-1774184400-1774187100@hallandskonstmuseum.se
SUMMARY:Guidad visning – Eufemia
DESCRIPTION:Genom en grupp kvinnliga textilkonstnärer lyfter Hallands Konstmuseum fram ett bortglömt kapitel i Hallands konsthistoria. Läs mer om utställningen. \nVåra guidade visningar ingår alltid i entréavgiften.
URL:https://hallandskonstmuseum.se/evenemang/guidad-visning-eufemia-2/2026-03-22/
CATEGORIES:Aktivitet,Utställning
ATTACH;FMTTYPE=image/jpeg:https://hallandskonstmuseum.se/wp-content/uploads/2025/12/Eufemia_gruppbild_logga-1-scaled.jpg
END:VEVENT
BEGIN:VEVENT
DTSTART;TZID=Europe/Stockholm:20260321T143000
DTEND;TZID=Europe/Stockholm:20260321T151500
DTSTAMP:20260421T153711
CREATED:20250820T062833Z
LAST-MODIFIED:20251219T142713Z
UID:10002630-1774103400-1774106100@hallandskonstmuseum.se
SUMMARY:Guidad visning – Ur samlingen
DESCRIPTION:I utställningen Ur samlingen lyfter vi frågor kring konst och samlande. Resan från klassiskt regionalt museum 1933 till dagens moderna konstmuseum speglas i utställningens innehåll. Läs mer om utställningen. \nVåra guidade visningar ingår alltid i entréavgiften.
URL:https://hallandskonstmuseum.se/evenemang/guidad-visning-ur-samlingen-36-2-2-2/2026-03-21/
CATEGORIES:Aktivitet,Utställning
ATTACH;FMTTYPE=image/jpeg:https://hallandskonstmuseum.se/wp-content/uploads/2025/01/P1086530_webb.jpg
END:VEVENT
BEGIN:VEVENT
DTSTART;TZID=Europe/Stockholm:20260321T130000
DTEND;TZID=Europe/Stockholm:20260321T134500
DTSTAMP:20260421T153711
CREATED:20250820T060021Z
LAST-MODIFIED:20251219T135818Z
UID:10002332-1774098000-1774100700@hallandskonstmuseum.se
SUMMARY:Guidad visning - Tyra Kleen
DESCRIPTION:I utställningen Tyra Kleen – Ständigt sökande\, lär vi känna Tyra Kleen (1874–1951)\, som var konstnär\, spiritist och världsresenär i det tidiga 1900-talet. Läs mer om utställningen. \nVåra guidade visningar ingår alltid i entréavgiften.
URL:https://hallandskonstmuseum.se/evenemang/guidad-visning-tyra-kleen/2026-03-21/
CATEGORIES:Aktivitet,Utställning
ATTACH;FMTTYPE=image/jpeg:https://hallandskonstmuseum.se/wp-content/uploads/2025/08/Tyra-Kleen_16_9.jpg
END:VEVENT
BEGIN:VEVENT
DTSTART;TZID=Europe/Stockholm:20260315T143000
DTEND;TZID=Europe/Stockholm:20260315T153000
DTSTAMP:20260421T153711
CREATED:20260108T101450Z
LAST-MODIFIED:20260108T114139Z
UID:10002694-1773585000-1773588600@hallandskonstmuseum.se
SUMMARY:Husesyn - museet som konstverk
DESCRIPTION:Guidad vandring genom museet med fokus på de konstnärliga gestaltningarna i byggnaden. \nVåra guidade visningar ingår alltid i entréavgiften. \nLäs mer om de konstnärliga gestaltningarna.
URL:https://hallandskonstmuseum.se/evenemang/husesyn-museet-som-konstverk/2026-03-15/
CATEGORIES:Aktivitet
ATTACH;FMTTYPE=image/jpeg:https://hallandskonstmuseum.se/wp-content/uploads/2024/01/Rundtur_museet_2_600x340px.jpg
END:VEVENT
BEGIN:VEVENT
DTSTART;TZID=Europe/Stockholm:20260315T130000
DTEND;TZID=Europe/Stockholm:20260315T134500
DTSTAMP:20260421T153711
CREATED:20251219T141516Z
LAST-MODIFIED:20260212T141401Z
UID:10002450-1773579600-1773582300@hallandskonstmuseum.se
SUMMARY:Guidad visning – Eufemia
DESCRIPTION:Genom en grupp kvinnliga textilkonstnärer lyfter Hallands Konstmuseum fram ett bortglömt kapitel i Hallands konsthistoria. Läs mer om utställningen. \nVåra guidade visningar ingår alltid i entréavgiften.
URL:https://hallandskonstmuseum.se/evenemang/guidad-visning-eufemia-2/2026-03-15/
CATEGORIES:Aktivitet,Utställning
ATTACH;FMTTYPE=image/jpeg:https://hallandskonstmuseum.se/wp-content/uploads/2025/12/Eufemia_gruppbild_logga-1-scaled.jpg
END:VEVENT
BEGIN:VEVENT
DTSTART;TZID=Europe/Stockholm:20260314T143000
DTEND;TZID=Europe/Stockholm:20260314T151500
DTSTAMP:20260421T153711
CREATED:20250820T062833Z
LAST-MODIFIED:20251219T142713Z
UID:10002629-1773498600-1773501300@hallandskonstmuseum.se
SUMMARY:Guidad visning – Ur samlingen
DESCRIPTION:I utställningen Ur samlingen lyfter vi frågor kring konst och samlande. Resan från klassiskt regionalt museum 1933 till dagens moderna konstmuseum speglas i utställningens innehåll. Läs mer om utställningen. \nVåra guidade visningar ingår alltid i entréavgiften.
URL:https://hallandskonstmuseum.se/evenemang/guidad-visning-ur-samlingen-36-2-2-2/2026-03-14/
CATEGORIES:Aktivitet,Utställning
ATTACH;FMTTYPE=image/jpeg:https://hallandskonstmuseum.se/wp-content/uploads/2025/01/P1086530_webb.jpg
END:VEVENT
BEGIN:VEVENT
DTSTART;TZID=Europe/Stockholm:20260314T130000
DTEND;TZID=Europe/Stockholm:20260314T134500
DTSTAMP:20260421T153711
CREATED:20250820T060021Z
LAST-MODIFIED:20251219T135818Z
UID:10002331-1773493200-1773495900@hallandskonstmuseum.se
SUMMARY:Guidad visning - Tyra Kleen
DESCRIPTION:I utställningen Tyra Kleen – Ständigt sökande\, lär vi känna Tyra Kleen (1874–1951)\, som var konstnär\, spiritist och världsresenär i det tidiga 1900-talet. Läs mer om utställningen. \nVåra guidade visningar ingår alltid i entréavgiften.
URL:https://hallandskonstmuseum.se/evenemang/guidad-visning-tyra-kleen/2026-03-14/
CATEGORIES:Aktivitet,Utställning
ATTACH;FMTTYPE=image/jpeg:https://hallandskonstmuseum.se/wp-content/uploads/2025/08/Tyra-Kleen_16_9.jpg
END:VEVENT
BEGIN:VEVENT
DTSTART;TZID=Europe/Stockholm:20260308T143000
DTEND;TZID=Europe/Stockholm:20260308T151500
DTSTAMP:20260421T153711
CREATED:20251219T141021Z
LAST-MODIFIED:20260108T112906Z
UID:10002340-1772980200-1772982900@hallandskonstmuseum.se
SUMMARY:Guidad visning – Eufemia
DESCRIPTION:I början av 1980-talet gick en grupp kvinnliga textilkonstnärer samman under namnet Eufemia. Nu lyfter Hallands Konstmuseum fram detta kapitel i Hallands konsthistoria\, på samma plats där allt en gång började. Läs mer om utställningen. \nVåra guidade visningar ingår alltid i entréavgiften.
URL:https://hallandskonstmuseum.se/evenemang/guidad-visning-eufemia/2026-03-08/
CATEGORIES:Aktivitet,Utställning
ATTACH;FMTTYPE=image/jpeg:https://hallandskonstmuseum.se/wp-content/uploads/2025/12/Eufemia_gruppbild_logga-1-scaled.jpg
END:VEVENT
BEGIN:VEVENT
DTSTART;TZID=Europe/Stockholm:20260308T130000
DTEND;TZID=Europe/Stockholm:20260308T134500
DTSTAMP:20260421T153711
CREATED:20250820T122608Z
LAST-MODIFIED:20251219T135452Z
UID:10002325-1772974800-1772977500@hallandskonstmuseum.se
SUMMARY:Guidad visning - Lennart Olson
DESCRIPTION:Utställningen visar fotografen Lennart Olsons bredd inom dokumentärfotografi och hans konstnärliga\, mer experimentella fotografiska utforskande. Läs mer om utställningen. \nVåra guidade visningar ingår alltid i entréavgiften.
URL:https://hallandskonstmuseum.se/evenemang/guidad-visning-lennart-olson/2026-03-08/
CATEGORIES:Aktivitet,Utställning
ATTACH;FMTTYPE=image/jpeg:https://hallandskonstmuseum.se/wp-content/uploads/2025/08/Lennart-Olson-Stazione-Termini-II-Rome-1953_16_9.jpg
END:VEVENT
BEGIN:VEVENT
DTSTART;TZID=Europe/Stockholm:20260307T143000
DTEND;TZID=Europe/Stockholm:20260307T151500
DTSTAMP:20260421T153711
CREATED:20250820T062833Z
LAST-MODIFIED:20251219T142713Z
UID:10002628-1772893800-1772896500@hallandskonstmuseum.se
SUMMARY:Guidad visning – Ur samlingen
DESCRIPTION:I utställningen Ur samlingen lyfter vi frågor kring konst och samlande. Resan från klassiskt regionalt museum 1933 till dagens moderna konstmuseum speglas i utställningens innehåll. Läs mer om utställningen. \nVåra guidade visningar ingår alltid i entréavgiften.
URL:https://hallandskonstmuseum.se/evenemang/guidad-visning-ur-samlingen-36-2-2-2/2026-03-07/
CATEGORIES:Aktivitet,Utställning
ATTACH;FMTTYPE=image/jpeg:https://hallandskonstmuseum.se/wp-content/uploads/2025/01/P1086530_webb.jpg
END:VEVENT
BEGIN:VEVENT
DTSTART;TZID=Europe/Stockholm:20260307T130000
DTEND;TZID=Europe/Stockholm:20260307T134500
DTSTAMP:20260421T153711
CREATED:20250820T060021Z
LAST-MODIFIED:20251219T135818Z
UID:10002330-1772888400-1772891100@hallandskonstmuseum.se
SUMMARY:Guidad visning - Tyra Kleen
DESCRIPTION:I utställningen Tyra Kleen – Ständigt sökande\, lär vi känna Tyra Kleen (1874–1951)\, som var konstnär\, spiritist och världsresenär i det tidiga 1900-talet. Läs mer om utställningen. \nVåra guidade visningar ingår alltid i entréavgiften.
URL:https://hallandskonstmuseum.se/evenemang/guidad-visning-tyra-kleen/2026-03-07/
CATEGORIES:Aktivitet,Utställning
ATTACH;FMTTYPE=image/jpeg:https://hallandskonstmuseum.se/wp-content/uploads/2025/08/Tyra-Kleen_16_9.jpg
END:VEVENT
BEGIN:VEVENT
DTSTART;TZID=Europe/Stockholm:20260305T123000
DTEND;TZID=Europe/Stockholm:20260305T130000
DTSTAMP:20260421T153711
CREATED:20260109T073750Z
LAST-MODIFIED:20260109T073929Z
UID:10002709-1772713800-1772715600@hallandskonstmuseum.se
SUMMARY:Djupdykning - En bild är en bild
DESCRIPTION:Vid några tillfällen per år zoomar vi in på ett eller ett par konstverk i våra utställningar. Den här gången fokuserar vi på ett fotografi taget av Lennart Olson. Det handlar om en reklambild från 1970-talet. Vad kan den berätta? Blir det en historia om yoghurtätande eller om fotografisk förnyelse? Kanske både och. \nGå två – betala för en! Förutom visningen får du tillgång till alla utställningar. Kombinera gärna med en god lunch på Brunchbaren. \nProgramtid ca 20 minuter.
URL:https://hallandskonstmuseum.se/evenemang/djupdykning-en-bild-ar-en-bild/
CATEGORIES:Aktivitet,Utställning
ATTACH;FMTTYPE=image/jpeg:https://hallandskonstmuseum.se/wp-content/uploads/2026/01/Djupdykning_LO-kopiera.jpg
END:VEVENT
BEGIN:VEVENT
DTSTART;TZID=Europe/Stockholm:20260301T143000
DTEND;TZID=Europe/Stockholm:20260301T151500
DTSTAMP:20260421T153711
CREATED:20251219T141021Z
LAST-MODIFIED:20260108T112906Z
UID:10002339-1772375400-1772378100@hallandskonstmuseum.se
SUMMARY:Guidad visning – Eufemia
DESCRIPTION:I början av 1980-talet gick en grupp kvinnliga textilkonstnärer samman under namnet Eufemia. Nu lyfter Hallands Konstmuseum fram detta kapitel i Hallands konsthistoria\, på samma plats där allt en gång började. Läs mer om utställningen. \nVåra guidade visningar ingår alltid i entréavgiften.
URL:https://hallandskonstmuseum.se/evenemang/guidad-visning-eufemia/2026-03-01/
CATEGORIES:Aktivitet,Utställning
ATTACH;FMTTYPE=image/jpeg:https://hallandskonstmuseum.se/wp-content/uploads/2025/12/Eufemia_gruppbild_logga-1-scaled.jpg
END:VEVENT
BEGIN:VEVENT
DTSTART;TZID=Europe/Stockholm:20260301T130000
DTEND;TZID=Europe/Stockholm:20260301T134500
DTSTAMP:20260421T153711
CREATED:20250820T122608Z
LAST-MODIFIED:20251219T135452Z
UID:10002324-1772370000-1772372700@hallandskonstmuseum.se
SUMMARY:Guidad visning - Lennart Olson
DESCRIPTION:Utställningen visar fotografen Lennart Olsons bredd inom dokumentärfotografi och hans konstnärliga\, mer experimentella fotografiska utforskande. Läs mer om utställningen. \nVåra guidade visningar ingår alltid i entréavgiften.
URL:https://hallandskonstmuseum.se/evenemang/guidad-visning-lennart-olson/2026-03-01/
CATEGORIES:Aktivitet,Utställning
ATTACH;FMTTYPE=image/jpeg:https://hallandskonstmuseum.se/wp-content/uploads/2025/08/Lennart-Olson-Stazione-Termini-II-Rome-1953_16_9.jpg
END:VEVENT
BEGIN:VEVENT
DTSTART;TZID=Europe/Stockholm:20260228T143000
DTEND;TZID=Europe/Stockholm:20260228T151500
DTSTAMP:20260421T153711
CREATED:20250820T062833Z
LAST-MODIFIED:20251219T142713Z
UID:10002627-1772289000-1772291700@hallandskonstmuseum.se
SUMMARY:Guidad visning – Ur samlingen
DESCRIPTION:I utställningen Ur samlingen lyfter vi frågor kring konst och samlande. Resan från klassiskt regionalt museum 1933 till dagens moderna konstmuseum speglas i utställningens innehåll. Läs mer om utställningen. \nVåra guidade visningar ingår alltid i entréavgiften.
URL:https://hallandskonstmuseum.se/evenemang/guidad-visning-ur-samlingen-36-2-2-2/2026-02-28/
CATEGORIES:Aktivitet,Utställning
ATTACH;FMTTYPE=image/jpeg:https://hallandskonstmuseum.se/wp-content/uploads/2025/01/P1086530_webb.jpg
END:VEVENT
BEGIN:VEVENT
DTSTART;TZID=Europe/Stockholm:20260222T143000
DTEND;TZID=Europe/Stockholm:20260222T151500
DTSTAMP:20260421T153711
CREATED:20251219T141021Z
LAST-MODIFIED:20260108T112906Z
UID:10002338-1771770600-1771773300@hallandskonstmuseum.se
SUMMARY:Guidad visning – Eufemia
DESCRIPTION:I början av 1980-talet gick en grupp kvinnliga textilkonstnärer samman under namnet Eufemia. Nu lyfter Hallands Konstmuseum fram detta kapitel i Hallands konsthistoria\, på samma plats där allt en gång började. Läs mer om utställningen. \nVåra guidade visningar ingår alltid i entréavgiften.
URL:https://hallandskonstmuseum.se/evenemang/guidad-visning-eufemia/2026-02-22/
CATEGORIES:Aktivitet,Utställning
ATTACH;FMTTYPE=image/jpeg:https://hallandskonstmuseum.se/wp-content/uploads/2025/12/Eufemia_gruppbild_logga-1-scaled.jpg
END:VEVENT
BEGIN:VEVENT
DTSTART;TZID=Europe/Stockholm:20260222T130000
DTEND;TZID=Europe/Stockholm:20260222T134500
DTSTAMP:20260421T153711
CREATED:20250820T122608Z
LAST-MODIFIED:20251219T135452Z
UID:10002323-1771765200-1771767900@hallandskonstmuseum.se
SUMMARY:Guidad visning - Lennart Olson
DESCRIPTION:Utställningen visar fotografen Lennart Olsons bredd inom dokumentärfotografi och hans konstnärliga\, mer experimentella fotografiska utforskande. Läs mer om utställningen. \nVåra guidade visningar ingår alltid i entréavgiften.
URL:https://hallandskonstmuseum.se/evenemang/guidad-visning-lennart-olson/2026-02-22/
CATEGORIES:Aktivitet,Utställning
ATTACH;FMTTYPE=image/jpeg:https://hallandskonstmuseum.se/wp-content/uploads/2025/08/Lennart-Olson-Stazione-Termini-II-Rome-1953_16_9.jpg
END:VEVENT
BEGIN:VEVENT
DTSTART;TZID=Europe/Stockholm:20260221T143000
DTEND;TZID=Europe/Stockholm:20260221T151500
DTSTAMP:20260421T153711
CREATED:20250820T062833Z
LAST-MODIFIED:20251219T142713Z
UID:10002626-1771684200-1771686900@hallandskonstmuseum.se
SUMMARY:Guidad visning – Ur samlingen
DESCRIPTION:I utställningen Ur samlingen lyfter vi frågor kring konst och samlande. Resan från klassiskt regionalt museum 1933 till dagens moderna konstmuseum speglas i utställningens innehåll. Läs mer om utställningen. \nVåra guidade visningar ingår alltid i entréavgiften.
URL:https://hallandskonstmuseum.se/evenemang/guidad-visning-ur-samlingen-36-2-2-2/2026-02-21/
CATEGORIES:Aktivitet,Utställning
ATTACH;FMTTYPE=image/jpeg:https://hallandskonstmuseum.se/wp-content/uploads/2025/01/P1086530_webb.jpg
END:VEVENT
BEGIN:VEVENT
DTSTART;TZID=Europe/Stockholm:20260221T130000
DTEND;TZID=Europe/Stockholm:20260221T134500
DTSTAMP:20260421T153711
CREATED:20250820T060021Z
LAST-MODIFIED:20251219T135818Z
UID:10002329-1771678800-1771681500@hallandskonstmuseum.se
SUMMARY:Guidad visning - Tyra Kleen
DESCRIPTION:I utställningen Tyra Kleen – Ständigt sökande\, lär vi känna Tyra Kleen (1874–1951)\, som var konstnär\, spiritist och världsresenär i det tidiga 1900-talet. Läs mer om utställningen. \nVåra guidade visningar ingår alltid i entréavgiften.
URL:https://hallandskonstmuseum.se/evenemang/guidad-visning-tyra-kleen/2026-02-21/
CATEGORIES:Aktivitet,Utställning
ATTACH;FMTTYPE=image/jpeg:https://hallandskonstmuseum.se/wp-content/uploads/2025/08/Tyra-Kleen_16_9.jpg
END:VEVENT
BEGIN:VEVENT
DTSTART;TZID=Europe/Stockholm:20260218T133000
DTEND;TZID=Europe/Stockholm:20260218T140000
DTSTAMP:20260421T153711
CREATED:20260122T130507Z
LAST-MODIFIED:20260122T132854Z
UID:10002718-1771421400-1771423200@hallandskonstmuseum.se
SUMMARY:Familjevisning: Lennart Olson – En bild är en bild
DESCRIPTION:Låt oss presentera Lennart Olson\, den nyskapande fotografen som bodde i Steninge! Svart på vitt – broar\, hus och personer. Från 6 år. \nLäs mer om utställningen Lennart Olson – En bild är en bild. \nFri entré för barn och ungdomar\, medföljande vuxen betalar ordinarie entréavgift. Begränsat antal platser. Förboka för att säkra din plats via bokning@hallandskonstmuseum.se eller tel 035-16 23 00.
URL:https://hallandskonstmuseum.se/evenemang/familjevisning-lennart-olson-en-bild-ar-en-bild/
CATEGORIES:Aktivitet,Utställning
ATTACH;FMTTYPE=image/jpeg:https://hallandskonstmuseum.se/wp-content/uploads/2025/08/Lennart-Olson-Stazione-Termini-II-Rome-1953_16_9.jpg
END:VEVENT
BEGIN:VEVENT
DTSTART;TZID=Europe/Stockholm:20260217T133000
DTEND;TZID=Europe/Stockholm:20260217T140000
DTSTAMP:20260421T153711
CREATED:20260122T125704Z
LAST-MODIFIED:20260122T132654Z
UID:10002717-1771335000-1771336800@hallandskonstmuseum.se
SUMMARY:Familjevisning: Tyra Kleen – Ständigt sökande
DESCRIPTION:Låt oss presentera en annorlunda person! Tyra Kleen hette en konstnär som levde för ungefär hundra år sedan. Hon gillade det mystiska och spännande mer än den vanliga vardagen. Därför reste hon till när och fjärran\, hade seans med andar\, köpte ett skelett i Paris och lärde sig balinesisk dans. Från 6 år. \nLäs mer om utställningen Tyra Kleen – Ständigt sökande. \nFri entré för barn och ungdomar\, medföljande vuxen betalar ordinarie entréavgift. Begränsat antal platser. Förboka för att säkra din plats via bokning@hallandskonstmuseum.se eller tel 035-16 23 00.
URL:https://hallandskonstmuseum.se/evenemang/familjevisning-tyra-kleen-standigt-sokande/
CATEGORIES:Aktivitet,Utställning
ATTACH;FMTTYPE=image/jpeg:https://hallandskonstmuseum.se/wp-content/uploads/2025/08/Tyra-Kleen-Forbjuden-frukt1915.-Riddarhuset-Valinge-gard.-Foto-Mats-Arvidsson-scaled.jpg
END:VEVENT
BEGIN:VEVENT
DTSTART;TZID=Europe/Stockholm:20260215T143000
DTEND;TZID=Europe/Stockholm:20260215T151500
DTSTAMP:20260421T153711
CREATED:20251219T141021Z
LAST-MODIFIED:20260108T112906Z
UID:10002337-1771165800-1771168500@hallandskonstmuseum.se
SUMMARY:Guidad visning – Eufemia
DESCRIPTION:I början av 1980-talet gick en grupp kvinnliga textilkonstnärer samman under namnet Eufemia. Nu lyfter Hallands Konstmuseum fram detta kapitel i Hallands konsthistoria\, på samma plats där allt en gång började. Läs mer om utställningen. \nVåra guidade visningar ingår alltid i entréavgiften.
URL:https://hallandskonstmuseum.se/evenemang/guidad-visning-eufemia/2026-02-15/
CATEGORIES:Aktivitet,Utställning
ATTACH;FMTTYPE=image/jpeg:https://hallandskonstmuseum.se/wp-content/uploads/2025/12/Eufemia_gruppbild_logga-1-scaled.jpg
END:VEVENT
BEGIN:VEVENT
DTSTART;TZID=Europe/Stockholm:20260215T130000
DTEND;TZID=Europe/Stockholm:20260215T134500
DTSTAMP:20260421T153711
CREATED:20250820T122608Z
LAST-MODIFIED:20251219T135452Z
UID:10002322-1771160400-1771163100@hallandskonstmuseum.se
SUMMARY:Guidad visning - Lennart Olson
DESCRIPTION:Utställningen visar fotografen Lennart Olsons bredd inom dokumentärfotografi och hans konstnärliga\, mer experimentella fotografiska utforskande. Läs mer om utställningen. \nVåra guidade visningar ingår alltid i entréavgiften.
URL:https://hallandskonstmuseum.se/evenemang/guidad-visning-lennart-olson/2026-02-15/
CATEGORIES:Aktivitet,Utställning
ATTACH;FMTTYPE=image/jpeg:https://hallandskonstmuseum.se/wp-content/uploads/2025/08/Lennart-Olson-Stazione-Termini-II-Rome-1953_16_9.jpg
END:VEVENT
BEGIN:VEVENT
DTSTART;TZID=Europe/Stockholm:20260214T143000
DTEND;TZID=Europe/Stockholm:20260214T151500
DTSTAMP:20260421T153711
CREATED:20250820T062833Z
LAST-MODIFIED:20251219T142713Z
UID:10002625-1771079400-1771082100@hallandskonstmuseum.se
SUMMARY:Guidad visning – Ur samlingen
DESCRIPTION:I utställningen Ur samlingen lyfter vi frågor kring konst och samlande. Resan från klassiskt regionalt museum 1933 till dagens moderna konstmuseum speglas i utställningens innehåll. Läs mer om utställningen. \nVåra guidade visningar ingår alltid i entréavgiften.
URL:https://hallandskonstmuseum.se/evenemang/guidad-visning-ur-samlingen-36-2-2-2/2026-02-14/
CATEGORIES:Aktivitet,Utställning
ATTACH;FMTTYPE=image/jpeg:https://hallandskonstmuseum.se/wp-content/uploads/2025/01/P1086530_webb.jpg
END:VEVENT
BEGIN:VEVENT
DTSTART;TZID=Europe/Stockholm:20260214T130000
DTEND;TZID=Europe/Stockholm:20260214T134500
DTSTAMP:20260421T153711
CREATED:20250820T060021Z
LAST-MODIFIED:20251219T135818Z
UID:10002328-1771074000-1771076700@hallandskonstmuseum.se
SUMMARY:Guidad visning - Tyra Kleen
DESCRIPTION:I utställningen Tyra Kleen – Ständigt sökande\, lär vi känna Tyra Kleen (1874–1951)\, som var konstnär\, spiritist och världsresenär i det tidiga 1900-talet. Läs mer om utställningen. \nVåra guidade visningar ingår alltid i entréavgiften.
URL:https://hallandskonstmuseum.se/evenemang/guidad-visning-tyra-kleen/2026-02-14/
CATEGORIES:Aktivitet,Utställning
ATTACH;FMTTYPE=image/jpeg:https://hallandskonstmuseum.se/wp-content/uploads/2025/08/Tyra-Kleen_16_9.jpg
END:VEVENT
BEGIN:VEVENT
DTSTART;TZID=Europe/Stockholm:20260208T143000
DTEND;TZID=Europe/Stockholm:20260208T151500
DTSTAMP:20260421T153711
CREATED:20251219T141021Z
LAST-MODIFIED:20260108T112906Z
UID:10002336-1770561000-1770563700@hallandskonstmuseum.se
SUMMARY:Guidad visning – Eufemia
DESCRIPTION:I början av 1980-talet gick en grupp kvinnliga textilkonstnärer samman under namnet Eufemia. Nu lyfter Hallands Konstmuseum fram detta kapitel i Hallands konsthistoria\, på samma plats där allt en gång började. Läs mer om utställningen. \nVåra guidade visningar ingår alltid i entréavgiften.
URL:https://hallandskonstmuseum.se/evenemang/guidad-visning-eufemia/2026-02-08/
CATEGORIES:Aktivitet,Utställning
ATTACH;FMTTYPE=image/jpeg:https://hallandskonstmuseum.se/wp-content/uploads/2025/12/Eufemia_gruppbild_logga-1-scaled.jpg
END:VEVENT
BEGIN:VEVENT
DTSTART;TZID=Europe/Stockholm:20260208T130000
DTEND;TZID=Europe/Stockholm:20260208T134500
DTSTAMP:20260421T153711
CREATED:20250820T122608Z
LAST-MODIFIED:20251219T135452Z
UID:10002321-1770555600-1770558300@hallandskonstmuseum.se
SUMMARY:Guidad visning - Lennart Olson
DESCRIPTION:Utställningen visar fotografen Lennart Olsons bredd inom dokumentärfotografi och hans konstnärliga\, mer experimentella fotografiska utforskande. Läs mer om utställningen. \nVåra guidade visningar ingår alltid i entréavgiften.
URL:https://hallandskonstmuseum.se/evenemang/guidad-visning-lennart-olson/2026-02-08/
CATEGORIES:Aktivitet,Utställning
ATTACH;FMTTYPE=image/jpeg:https://hallandskonstmuseum.se/wp-content/uploads/2025/08/Lennart-Olson-Stazione-Termini-II-Rome-1953_16_9.jpg
END:VEVENT
END:VCALENDAR