BEGIN:VCALENDAR
VERSION:2.0
PRODID:-//Hallands Konstmuseum - ECPv6.15.20//NONSGML v1.0//EN
CALSCALE:GREGORIAN
METHOD:PUBLISH
X-WR-CALNAME:Hallands Konstmuseum
X-ORIGINAL-URL:https://hallandskonstmuseum.se
X-WR-CALDESC:Händelser för Hallands Konstmuseum
REFRESH-INTERVAL;VALUE=DURATION:PT1H
X-Robots-Tag:noindex
X-PUBLISHED-TTL:PT1H
BEGIN:VTIMEZONE
TZID:Europe/Stockholm
BEGIN:DAYLIGHT
TZOFFSETFROM:+0100
TZOFFSETTO:+0200
TZNAME:CEST
DTSTART:20240331T010000
END:DAYLIGHT
BEGIN:STANDARD
TZOFFSETFROM:+0200
TZOFFSETTO:+0100
TZNAME:CET
DTSTART:20241027T010000
END:STANDARD
BEGIN:DAYLIGHT
TZOFFSETFROM:+0100
TZOFFSETTO:+0200
TZNAME:CEST
DTSTART:20250330T010000
END:DAYLIGHT
BEGIN:STANDARD
TZOFFSETFROM:+0200
TZOFFSETTO:+0100
TZNAME:CET
DTSTART:20251026T010000
END:STANDARD
BEGIN:DAYLIGHT
TZOFFSETFROM:+0100
TZOFFSETTO:+0200
TZNAME:CEST
DTSTART:20260329T010000
END:DAYLIGHT
BEGIN:STANDARD
TZOFFSETFROM:+0200
TZOFFSETTO:+0100
TZNAME:CET
DTSTART:20261025T010000
END:STANDARD
BEGIN:DAYLIGHT
TZOFFSETFROM:+0100
TZOFFSETTO:+0200
TZNAME:CEST
DTSTART:20270328T010000
END:DAYLIGHT
BEGIN:STANDARD
TZOFFSETFROM:+0200
TZOFFSETTO:+0100
TZNAME:CET
DTSTART:20271031T010000
END:STANDARD
END:VTIMEZONE
BEGIN:VEVENT
DTSTART;TZID=Europe/Stockholm:20260215T143000
DTEND;TZID=Europe/Stockholm:20260215T151500
DTSTAMP:20260421T190220
CREATED:20251219T141021Z
LAST-MODIFIED:20260108T112906Z
UID:10002337-1771165800-1771168500@hallandskonstmuseum.se
SUMMARY:Guidad visning – Eufemia
DESCRIPTION:I början av 1980-talet gick en grupp kvinnliga textilkonstnärer samman under namnet Eufemia. Nu lyfter Hallands Konstmuseum fram detta kapitel i Hallands konsthistoria\, på samma plats där allt en gång började. Läs mer om utställningen. \nVåra guidade visningar ingår alltid i entréavgiften.
URL:https://hallandskonstmuseum.se/evenemang/guidad-visning-eufemia/2026-02-15/
CATEGORIES:Aktivitet,Utställning
ATTACH;FMTTYPE=image/jpeg:https://hallandskonstmuseum.se/wp-content/uploads/2025/12/Eufemia_gruppbild_logga-1-scaled.jpg
END:VEVENT
BEGIN:VEVENT
DTSTART;TZID=Europe/Stockholm:20260215T130000
DTEND;TZID=Europe/Stockholm:20260215T134500
DTSTAMP:20260421T190221
CREATED:20250820T122608Z
LAST-MODIFIED:20251219T135452Z
UID:10002322-1771160400-1771163100@hallandskonstmuseum.se
SUMMARY:Guidad visning - Lennart Olson
DESCRIPTION:Utställningen visar fotografen Lennart Olsons bredd inom dokumentärfotografi och hans konstnärliga\, mer experimentella fotografiska utforskande. Läs mer om utställningen. \nVåra guidade visningar ingår alltid i entréavgiften.
URL:https://hallandskonstmuseum.se/evenemang/guidad-visning-lennart-olson/2026-02-15/
CATEGORIES:Aktivitet,Utställning
ATTACH;FMTTYPE=image/jpeg:https://hallandskonstmuseum.se/wp-content/uploads/2025/08/Lennart-Olson-Stazione-Termini-II-Rome-1953_16_9.jpg
END:VEVENT
BEGIN:VEVENT
DTSTART;TZID=Europe/Stockholm:20260214T143000
DTEND;TZID=Europe/Stockholm:20260214T151500
DTSTAMP:20260421T190221
CREATED:20250820T062833Z
LAST-MODIFIED:20251219T142713Z
UID:10002625-1771079400-1771082100@hallandskonstmuseum.se
SUMMARY:Guidad visning – Ur samlingen
DESCRIPTION:I utställningen Ur samlingen lyfter vi frågor kring konst och samlande. Resan från klassiskt regionalt museum 1933 till dagens moderna konstmuseum speglas i utställningens innehåll. Läs mer om utställningen. \nVåra guidade visningar ingår alltid i entréavgiften.
URL:https://hallandskonstmuseum.se/evenemang/guidad-visning-ur-samlingen-36-2-2-2/2026-02-14/
CATEGORIES:Aktivitet,Utställning
ATTACH;FMTTYPE=image/jpeg:https://hallandskonstmuseum.se/wp-content/uploads/2025/01/P1086530_webb.jpg
END:VEVENT
BEGIN:VEVENT
DTSTART;TZID=Europe/Stockholm:20260214T130000
DTEND;TZID=Europe/Stockholm:20260214T134500
DTSTAMP:20260421T190221
CREATED:20250820T060021Z
LAST-MODIFIED:20251219T135818Z
UID:10002328-1771074000-1771076700@hallandskonstmuseum.se
SUMMARY:Guidad visning - Tyra Kleen
DESCRIPTION:I utställningen Tyra Kleen – Ständigt sökande\, lär vi känna Tyra Kleen (1874–1951)\, som var konstnär\, spiritist och världsresenär i det tidiga 1900-talet. Läs mer om utställningen. \nVåra guidade visningar ingår alltid i entréavgiften.
URL:https://hallandskonstmuseum.se/evenemang/guidad-visning-tyra-kleen/2026-02-14/
CATEGORIES:Aktivitet,Utställning
ATTACH;FMTTYPE=image/jpeg:https://hallandskonstmuseum.se/wp-content/uploads/2025/08/Tyra-Kleen_16_9.jpg
END:VEVENT
BEGIN:VEVENT
DTSTART;TZID=Europe/Stockholm:20260208T143000
DTEND;TZID=Europe/Stockholm:20260208T151500
DTSTAMP:20260421T190221
CREATED:20251219T141021Z
LAST-MODIFIED:20260108T112906Z
UID:10002336-1770561000-1770563700@hallandskonstmuseum.se
SUMMARY:Guidad visning – Eufemia
DESCRIPTION:I början av 1980-talet gick en grupp kvinnliga textilkonstnärer samman under namnet Eufemia. Nu lyfter Hallands Konstmuseum fram detta kapitel i Hallands konsthistoria\, på samma plats där allt en gång började. Läs mer om utställningen. \nVåra guidade visningar ingår alltid i entréavgiften.
URL:https://hallandskonstmuseum.se/evenemang/guidad-visning-eufemia/2026-02-08/
CATEGORIES:Aktivitet,Utställning
ATTACH;FMTTYPE=image/jpeg:https://hallandskonstmuseum.se/wp-content/uploads/2025/12/Eufemia_gruppbild_logga-1-scaled.jpg
END:VEVENT
BEGIN:VEVENT
DTSTART;TZID=Europe/Stockholm:20260208T130000
DTEND;TZID=Europe/Stockholm:20260208T134500
DTSTAMP:20260421T190221
CREATED:20250820T122608Z
LAST-MODIFIED:20251219T135452Z
UID:10002321-1770555600-1770558300@hallandskonstmuseum.se
SUMMARY:Guidad visning - Lennart Olson
DESCRIPTION:Utställningen visar fotografen Lennart Olsons bredd inom dokumentärfotografi och hans konstnärliga\, mer experimentella fotografiska utforskande. Läs mer om utställningen. \nVåra guidade visningar ingår alltid i entréavgiften.
URL:https://hallandskonstmuseum.se/evenemang/guidad-visning-lennart-olson/2026-02-08/
CATEGORIES:Aktivitet,Utställning
ATTACH;FMTTYPE=image/jpeg:https://hallandskonstmuseum.se/wp-content/uploads/2025/08/Lennart-Olson-Stazione-Termini-II-Rome-1953_16_9.jpg
END:VEVENT
BEGIN:VEVENT
DTSTART;TZID=Europe/Stockholm:20260207T143000
DTEND;TZID=Europe/Stockholm:20260207T151500
DTSTAMP:20260421T190221
CREATED:20250820T062833Z
LAST-MODIFIED:20251219T142713Z
UID:10002624-1770474600-1770477300@hallandskonstmuseum.se
SUMMARY:Guidad visning – Ur samlingen
DESCRIPTION:I utställningen Ur samlingen lyfter vi frågor kring konst och samlande. Resan från klassiskt regionalt museum 1933 till dagens moderna konstmuseum speglas i utställningens innehåll. Läs mer om utställningen. \nVåra guidade visningar ingår alltid i entréavgiften.
URL:https://hallandskonstmuseum.se/evenemang/guidad-visning-ur-samlingen-36-2-2-2/2026-02-07/
CATEGORIES:Aktivitet,Utställning
ATTACH;FMTTYPE=image/jpeg:https://hallandskonstmuseum.se/wp-content/uploads/2025/01/P1086530_webb.jpg
END:VEVENT
BEGIN:VEVENT
DTSTART;TZID=Europe/Stockholm:20260207T130000
DTEND;TZID=Europe/Stockholm:20260207T134500
DTSTAMP:20260421T190221
CREATED:20250820T060021Z
LAST-MODIFIED:20251219T135818Z
UID:10002327-1770469200-1770471900@hallandskonstmuseum.se
SUMMARY:Guidad visning - Tyra Kleen
DESCRIPTION:I utställningen Tyra Kleen – Ständigt sökande\, lär vi känna Tyra Kleen (1874–1951)\, som var konstnär\, spiritist och världsresenär i det tidiga 1900-talet. Läs mer om utställningen. \nVåra guidade visningar ingår alltid i entréavgiften.
URL:https://hallandskonstmuseum.se/evenemang/guidad-visning-tyra-kleen/2026-02-07/
CATEGORIES:Aktivitet,Utställning
ATTACH;FMTTYPE=image/jpeg:https://hallandskonstmuseum.se/wp-content/uploads/2025/08/Tyra-Kleen_16_9.jpg
END:VEVENT
BEGIN:VEVENT
DTSTART;TZID=Europe/Stockholm:20260201T143000
DTEND;TZID=Europe/Stockholm:20260201T153000
DTSTAMP:20260421T190221
CREATED:20260108T101450Z
LAST-MODIFIED:20260108T114139Z
UID:10002693-1769956200-1769959800@hallandskonstmuseum.se
SUMMARY:Husesyn - museet som konstverk
DESCRIPTION:Guidad vandring genom museet med fokus på de konstnärliga gestaltningarna i byggnaden. \nVåra guidade visningar ingår alltid i entréavgiften. \nLäs mer om de konstnärliga gestaltningarna.
URL:https://hallandskonstmuseum.se/evenemang/husesyn-museet-som-konstverk/2026-02-01/
CATEGORIES:Aktivitet
ATTACH;FMTTYPE=image/jpeg:https://hallandskonstmuseum.se/wp-content/uploads/2024/01/Rundtur_museet_2_600x340px.jpg
END:VEVENT
BEGIN:VEVENT
DTSTART;TZID=Europe/Stockholm:20260201T130000
DTEND;TZID=Europe/Stockholm:20260201T134500
DTSTAMP:20260421T190221
CREATED:20250820T122608Z
LAST-MODIFIED:20251219T135452Z
UID:10002320-1769950800-1769953500@hallandskonstmuseum.se
SUMMARY:Guidad visning - Lennart Olson
DESCRIPTION:Utställningen visar fotografen Lennart Olsons bredd inom dokumentärfotografi och hans konstnärliga\, mer experimentella fotografiska utforskande. Läs mer om utställningen. \nVåra guidade visningar ingår alltid i entréavgiften.
URL:https://hallandskonstmuseum.se/evenemang/guidad-visning-lennart-olson/2026-02-01/
CATEGORIES:Aktivitet,Utställning
ATTACH;FMTTYPE=image/jpeg:https://hallandskonstmuseum.se/wp-content/uploads/2025/08/Lennart-Olson-Stazione-Termini-II-Rome-1953_16_9.jpg
END:VEVENT
BEGIN:VEVENT
DTSTART;TZID=Europe/Stockholm:20260125T143000
DTEND;TZID=Europe/Stockholm:20260125T153000
DTSTAMP:20260421T190221
CREATED:20260108T101450Z
LAST-MODIFIED:20260108T114139Z
UID:10002678-1769351400-1769355000@hallandskonstmuseum.se
SUMMARY:Husesyn - museet som konstverk
DESCRIPTION:Guidad vandring genom museet med fokus på de konstnärliga gestaltningarna i byggnaden. \nVåra guidade visningar ingår alltid i entréavgiften. \nLäs mer om de konstnärliga gestaltningarna.
URL:https://hallandskonstmuseum.se/evenemang/husesyn-museet-som-konstverk/2026-01-25/
CATEGORIES:Aktivitet
ATTACH;FMTTYPE=image/jpeg:https://hallandskonstmuseum.se/wp-content/uploads/2024/01/Rundtur_museet_2_600x340px.jpg
END:VEVENT
BEGIN:VEVENT
DTSTART;TZID=Europe/Stockholm:20260125T130000
DTEND;TZID=Europe/Stockholm:20260125T134500
DTSTAMP:20260421T190221
CREATED:20250820T122608Z
LAST-MODIFIED:20251219T135452Z
UID:10002319-1769346000-1769348700@hallandskonstmuseum.se
SUMMARY:Guidad visning - Lennart Olson
DESCRIPTION:Utställningen visar fotografen Lennart Olsons bredd inom dokumentärfotografi och hans konstnärliga\, mer experimentella fotografiska utforskande. Läs mer om utställningen. \nVåra guidade visningar ingår alltid i entréavgiften.
URL:https://hallandskonstmuseum.se/evenemang/guidad-visning-lennart-olson/2026-01-25/
CATEGORIES:Aktivitet,Utställning
ATTACH;FMTTYPE=image/jpeg:https://hallandskonstmuseum.se/wp-content/uploads/2025/08/Lennart-Olson-Stazione-Termini-II-Rome-1953_16_9.jpg
END:VEVENT
BEGIN:VEVENT
DTSTART;TZID=Europe/Stockholm:20260124T143000
DTEND;TZID=Europe/Stockholm:20260124T151500
DTSTAMP:20260421T190221
CREATED:20250820T062833Z
LAST-MODIFIED:20251219T142713Z
UID:10002623-1769265000-1769267700@hallandskonstmuseum.se
SUMMARY:Guidad visning – Ur samlingen
DESCRIPTION:I utställningen Ur samlingen lyfter vi frågor kring konst och samlande. Resan från klassiskt regionalt museum 1933 till dagens moderna konstmuseum speglas i utställningens innehåll. Läs mer om utställningen. \nVåra guidade visningar ingår alltid i entréavgiften.
URL:https://hallandskonstmuseum.se/evenemang/guidad-visning-ur-samlingen-36-2-2-2/2026-01-24/
CATEGORIES:Aktivitet,Utställning
ATTACH;FMTTYPE=image/jpeg:https://hallandskonstmuseum.se/wp-content/uploads/2025/01/P1086530_webb.jpg
END:VEVENT
BEGIN:VEVENT
DTSTART;TZID=Europe/Stockholm:20260124T130000
DTEND;TZID=Europe/Stockholm:20260124T134500
DTSTAMP:20260421T190221
CREATED:20250820T060021Z
LAST-MODIFIED:20251219T135818Z
UID:10002326-1769259600-1769262300@hallandskonstmuseum.se
SUMMARY:Guidad visning - Tyra Kleen
DESCRIPTION:I utställningen Tyra Kleen – Ständigt sökande\, lär vi känna Tyra Kleen (1874–1951)\, som var konstnär\, spiritist och världsresenär i det tidiga 1900-talet. Läs mer om utställningen. \nVåra guidade visningar ingår alltid i entréavgiften.
URL:https://hallandskonstmuseum.se/evenemang/guidad-visning-tyra-kleen/2026-01-24/
CATEGORIES:Aktivitet,Utställning
ATTACH;FMTTYPE=image/jpeg:https://hallandskonstmuseum.se/wp-content/uploads/2025/08/Tyra-Kleen_16_9.jpg
END:VEVENT
BEGIN:VEVENT
DTSTART;TZID=Europe/Stockholm:20260118T143000
DTEND;TZID=Europe/Stockholm:20260118T153000
DTSTAMP:20260421T190221
CREATED:20250605T114912Z
LAST-MODIFIED:20250820T121517Z
UID:10002229-1768746600-1768750200@hallandskonstmuseum.se
SUMMARY:Husesyn - museet som konstverk
DESCRIPTION:Guidad vandring genom museet med fokus på de konstnärliga gestaltningarna i byggnaden. \nVåra guidade visningar ingår alltid i entréavgiften. \nLäs mer om de konstnärliga gestaltningarna.
URL:https://hallandskonstmuseum.se/evenemang/husesyn-museet-som-konstverk-10-3-2/2026-01-18/
CATEGORIES:Aktivitet
ATTACH;FMTTYPE=image/jpeg:https://hallandskonstmuseum.se/wp-content/uploads/2024/01/Rundtur_museet_2_600x340px.jpg
END:VEVENT
BEGIN:VEVENT
DTSTART;TZID=Europe/Stockholm:20260118T130000
DTEND;TZID=Europe/Stockholm:20260118T134500
DTSTAMP:20260421T190221
CREATED:20250820T122608Z
LAST-MODIFIED:20251219T135452Z
UID:10002268-1768741200-1768743900@hallandskonstmuseum.se
SUMMARY:Guidad visning - Lennart Olson
DESCRIPTION:Utställningen visar fotografen Lennart Olsons bredd inom dokumentärfotografi och hans konstnärliga\, mer experimentella fotografiska utforskande. Läs mer om utställningen. \nVåra guidade visningar ingår alltid i entréavgiften.
URL:https://hallandskonstmuseum.se/evenemang/guidad-visning-lennart-olson/2026-01-18/
CATEGORIES:Aktivitet,Utställning
ATTACH;FMTTYPE=image/jpeg:https://hallandskonstmuseum.se/wp-content/uploads/2025/08/Lennart-Olson-Stazione-Termini-II-Rome-1953_16_9.jpg
END:VEVENT
BEGIN:VEVENT
DTSTART;TZID=Europe/Stockholm:20260117T143000
DTEND;TZID=Europe/Stockholm:20260117T151500
DTSTAMP:20260421T190221
CREATED:20250820T062833Z
LAST-MODIFIED:20251219T142713Z
UID:10002182-1768660200-1768662900@hallandskonstmuseum.se
SUMMARY:Guidad visning – Ur samlingen
DESCRIPTION:I utställningen Ur samlingen lyfter vi frågor kring konst och samlande. Resan från klassiskt regionalt museum 1933 till dagens moderna konstmuseum speglas i utställningens innehåll. Läs mer om utställningen. \nVåra guidade visningar ingår alltid i entréavgiften.
URL:https://hallandskonstmuseum.se/evenemang/guidad-visning-ur-samlingen-36-2-2-2/2026-01-17/
CATEGORIES:Aktivitet,Utställning
ATTACH;FMTTYPE=image/jpeg:https://hallandskonstmuseum.se/wp-content/uploads/2025/01/P1086530_webb.jpg
END:VEVENT
BEGIN:VEVENT
DTSTART;TZID=Europe/Stockholm:20260117T130000
DTEND;TZID=Europe/Stockholm:20260117T134500
DTSTAMP:20260421T190221
CREATED:20250820T060021Z
LAST-MODIFIED:20251219T135818Z
UID:10002206-1768654800-1768657500@hallandskonstmuseum.se
SUMMARY:Guidad visning - Tyra Kleen
DESCRIPTION:I utställningen Tyra Kleen – Ständigt sökande\, lär vi känna Tyra Kleen (1874–1951)\, som var konstnär\, spiritist och världsresenär i det tidiga 1900-talet. Läs mer om utställningen. \nVåra guidade visningar ingår alltid i entréavgiften.
URL:https://hallandskonstmuseum.se/evenemang/guidad-visning-tyra-kleen/2026-01-17/
CATEGORIES:Aktivitet,Utställning
ATTACH;FMTTYPE=image/jpeg:https://hallandskonstmuseum.se/wp-content/uploads/2025/08/Tyra-Kleen_16_9.jpg
END:VEVENT
BEGIN:VEVENT
DTSTART;TZID=Europe/Stockholm:20260111T143000
DTEND;TZID=Europe/Stockholm:20260111T151500
DTSTAMP:20260421T190221
CREATED:20250605T112024Z
LAST-MODIFIED:20250917T061550Z
UID:10002224-1768141800-1768144500@hallandskonstmuseum.se
SUMMARY:Guidad visning - Över haven
DESCRIPTION:Här visas marinmåleriet\, skeppen\, resorna och samtida konstnärers tolkningar av havet. Allt ur Hallands Konstmuseums egen samling. Läs mer om utställningen. \nVåra guidade visningar ingår alltid i entréavgiften.
URL:https://hallandskonstmuseum.se/evenemang/guidad-visning-over-haven/2026-01-11/
CATEGORIES:Aktivitet,Utställning
ATTACH;FMTTYPE=image/jpeg:https://hallandskonstmuseum.se/wp-content/uploads/2025/06/Alvar-Jonson_Komposition-med-batar_webb.jpg
END:VEVENT
BEGIN:VEVENT
DTSTART;TZID=Europe/Stockholm:20260111T130000
DTEND;TZID=Europe/Stockholm:20260111T134500
DTSTAMP:20260421T190221
CREATED:20250820T122608Z
LAST-MODIFIED:20251219T135452Z
UID:10002267-1768136400-1768139100@hallandskonstmuseum.se
SUMMARY:Guidad visning - Lennart Olson
DESCRIPTION:Utställningen visar fotografen Lennart Olsons bredd inom dokumentärfotografi och hans konstnärliga\, mer experimentella fotografiska utforskande. Läs mer om utställningen. \nVåra guidade visningar ingår alltid i entréavgiften.
URL:https://hallandskonstmuseum.se/evenemang/guidad-visning-lennart-olson/2026-01-11/
CATEGORIES:Aktivitet,Utställning
ATTACH;FMTTYPE=image/jpeg:https://hallandskonstmuseum.se/wp-content/uploads/2025/08/Lennart-Olson-Stazione-Termini-II-Rome-1953_16_9.jpg
END:VEVENT
BEGIN:VEVENT
DTSTART;TZID=Europe/Stockholm:20260110T143000
DTEND;TZID=Europe/Stockholm:20260110T151500
DTSTAMP:20260421T190221
CREATED:20250820T062833Z
LAST-MODIFIED:20251219T142713Z
UID:10002181-1768055400-1768058100@hallandskonstmuseum.se
SUMMARY:Guidad visning – Ur samlingen
DESCRIPTION:I utställningen Ur samlingen lyfter vi frågor kring konst och samlande. Resan från klassiskt regionalt museum 1933 till dagens moderna konstmuseum speglas i utställningens innehåll. Läs mer om utställningen. \nVåra guidade visningar ingår alltid i entréavgiften.
URL:https://hallandskonstmuseum.se/evenemang/guidad-visning-ur-samlingen-36-2-2-2/2026-01-10/
CATEGORIES:Aktivitet,Utställning
ATTACH;FMTTYPE=image/jpeg:https://hallandskonstmuseum.se/wp-content/uploads/2025/01/P1086530_webb.jpg
END:VEVENT
BEGIN:VEVENT
DTSTART;TZID=Europe/Stockholm:20260110T130000
DTEND;TZID=Europe/Stockholm:20260110T134500
DTSTAMP:20260421T190221
CREATED:20250820T060021Z
LAST-MODIFIED:20251219T135818Z
UID:10002205-1768050000-1768052700@hallandskonstmuseum.se
SUMMARY:Guidad visning - Tyra Kleen
DESCRIPTION:I utställningen Tyra Kleen – Ständigt sökande\, lär vi känna Tyra Kleen (1874–1951)\, som var konstnär\, spiritist och världsresenär i det tidiga 1900-talet. Läs mer om utställningen. \nVåra guidade visningar ingår alltid i entréavgiften.
URL:https://hallandskonstmuseum.se/evenemang/guidad-visning-tyra-kleen/2026-01-10/
CATEGORIES:Aktivitet,Utställning
ATTACH;FMTTYPE=image/jpeg:https://hallandskonstmuseum.se/wp-content/uploads/2025/08/Tyra-Kleen_16_9.jpg
END:VEVENT
BEGIN:VEVENT
DTSTART;TZID=Europe/Stockholm:20260104T143000
DTEND;TZID=Europe/Stockholm:20260104T151500
DTSTAMP:20260421T190221
CREATED:20250605T112024Z
LAST-MODIFIED:20250917T061550Z
UID:10002223-1767537000-1767539700@hallandskonstmuseum.se
SUMMARY:Guidad visning - Över haven
DESCRIPTION:Här visas marinmåleriet\, skeppen\, resorna och samtida konstnärers tolkningar av havet. Allt ur Hallands Konstmuseums egen samling. Läs mer om utställningen. \nVåra guidade visningar ingår alltid i entréavgiften.
URL:https://hallandskonstmuseum.se/evenemang/guidad-visning-over-haven/2026-01-04/
CATEGORIES:Aktivitet,Utställning
ATTACH;FMTTYPE=image/jpeg:https://hallandskonstmuseum.se/wp-content/uploads/2025/06/Alvar-Jonson_Komposition-med-batar_webb.jpg
END:VEVENT
BEGIN:VEVENT
DTSTART;TZID=Europe/Stockholm:20260104T130000
DTEND;TZID=Europe/Stockholm:20260104T134500
DTSTAMP:20260421T190221
CREATED:20250820T122608Z
LAST-MODIFIED:20251219T135452Z
UID:10002266-1767531600-1767534300@hallandskonstmuseum.se
SUMMARY:Guidad visning - Lennart Olson
DESCRIPTION:Utställningen visar fotografen Lennart Olsons bredd inom dokumentärfotografi och hans konstnärliga\, mer experimentella fotografiska utforskande. Läs mer om utställningen. \nVåra guidade visningar ingår alltid i entréavgiften.
URL:https://hallandskonstmuseum.se/evenemang/guidad-visning-lennart-olson/2026-01-04/
CATEGORIES:Aktivitet,Utställning
ATTACH;FMTTYPE=image/jpeg:https://hallandskonstmuseum.se/wp-content/uploads/2025/08/Lennart-Olson-Stazione-Termini-II-Rome-1953_16_9.jpg
END:VEVENT
BEGIN:VEVENT
DTSTART;TZID=Europe/Stockholm:20260103T143000
DTEND;TZID=Europe/Stockholm:20260103T151500
DTSTAMP:20260421T190221
CREATED:20250820T062833Z
LAST-MODIFIED:20251219T142713Z
UID:10002180-1767450600-1767453300@hallandskonstmuseum.se
SUMMARY:Guidad visning – Ur samlingen
DESCRIPTION:I utställningen Ur samlingen lyfter vi frågor kring konst och samlande. Resan från klassiskt regionalt museum 1933 till dagens moderna konstmuseum speglas i utställningens innehåll. Läs mer om utställningen. \nVåra guidade visningar ingår alltid i entréavgiften.
URL:https://hallandskonstmuseum.se/evenemang/guidad-visning-ur-samlingen-36-2-2-2/2026-01-03/
CATEGORIES:Aktivitet,Utställning
ATTACH;FMTTYPE=image/jpeg:https://hallandskonstmuseum.se/wp-content/uploads/2025/01/P1086530_webb.jpg
END:VEVENT
BEGIN:VEVENT
DTSTART;TZID=Europe/Stockholm:20260103T130000
DTEND;TZID=Europe/Stockholm:20260103T134500
DTSTAMP:20260421T190221
CREATED:20250820T060021Z
LAST-MODIFIED:20251219T135818Z
UID:10002204-1767445200-1767447900@hallandskonstmuseum.se
SUMMARY:Guidad visning - Tyra Kleen
DESCRIPTION:I utställningen Tyra Kleen – Ständigt sökande\, lär vi känna Tyra Kleen (1874–1951)\, som var konstnär\, spiritist och världsresenär i det tidiga 1900-talet. Läs mer om utställningen. \nVåra guidade visningar ingår alltid i entréavgiften.
URL:https://hallandskonstmuseum.se/evenemang/guidad-visning-tyra-kleen/2026-01-03/
CATEGORIES:Aktivitet,Utställning
ATTACH;FMTTYPE=image/jpeg:https://hallandskonstmuseum.se/wp-content/uploads/2025/08/Tyra-Kleen_16_9.jpg
END:VEVENT
BEGIN:VEVENT
DTSTART;TZID=Europe/Stockholm:20251228T143000
DTEND;TZID=Europe/Stockholm:20251228T151500
DTSTAMP:20260421T190221
CREATED:20250605T112024Z
LAST-MODIFIED:20250917T061550Z
UID:10002222-1766932200-1766934900@hallandskonstmuseum.se
SUMMARY:Guidad visning - Över haven
DESCRIPTION:Här visas marinmåleriet\, skeppen\, resorna och samtida konstnärers tolkningar av havet. Allt ur Hallands Konstmuseums egen samling. Läs mer om utställningen. \nVåra guidade visningar ingår alltid i entréavgiften.
URL:https://hallandskonstmuseum.se/evenemang/guidad-visning-over-haven/2025-12-28/
CATEGORIES:Aktivitet,Utställning
ATTACH;FMTTYPE=image/jpeg:https://hallandskonstmuseum.se/wp-content/uploads/2025/06/Alvar-Jonson_Komposition-med-batar_webb.jpg
END:VEVENT
BEGIN:VEVENT
DTSTART;TZID=Europe/Stockholm:20251228T130000
DTEND;TZID=Europe/Stockholm:20251228T134500
DTSTAMP:20260421T190221
CREATED:20250820T122608Z
LAST-MODIFIED:20251219T135452Z
UID:10002265-1766926800-1766929500@hallandskonstmuseum.se
SUMMARY:Guidad visning - Lennart Olson
DESCRIPTION:Utställningen visar fotografen Lennart Olsons bredd inom dokumentärfotografi och hans konstnärliga\, mer experimentella fotografiska utforskande. Läs mer om utställningen. \nVåra guidade visningar ingår alltid i entréavgiften.
URL:https://hallandskonstmuseum.se/evenemang/guidad-visning-lennart-olson/2025-12-28/
CATEGORIES:Aktivitet,Utställning
ATTACH;FMTTYPE=image/jpeg:https://hallandskonstmuseum.se/wp-content/uploads/2025/08/Lennart-Olson-Stazione-Termini-II-Rome-1953_16_9.jpg
END:VEVENT
BEGIN:VEVENT
DTSTART;TZID=Europe/Stockholm:20251227T143000
DTEND;TZID=Europe/Stockholm:20251227T151500
DTSTAMP:20260421T190221
CREATED:20250820T062833Z
LAST-MODIFIED:20251219T142713Z
UID:10002179-1766845800-1766848500@hallandskonstmuseum.se
SUMMARY:Guidad visning – Ur samlingen
DESCRIPTION:I utställningen Ur samlingen lyfter vi frågor kring konst och samlande. Resan från klassiskt regionalt museum 1933 till dagens moderna konstmuseum speglas i utställningens innehåll. Läs mer om utställningen. \nVåra guidade visningar ingår alltid i entréavgiften.
URL:https://hallandskonstmuseum.se/evenemang/guidad-visning-ur-samlingen-36-2-2-2/2025-12-27/
CATEGORIES:Aktivitet,Utställning
ATTACH;FMTTYPE=image/jpeg:https://hallandskonstmuseum.se/wp-content/uploads/2025/01/P1086530_webb.jpg
END:VEVENT
BEGIN:VEVENT
DTSTART;TZID=Europe/Stockholm:20251227T130000
DTEND;TZID=Europe/Stockholm:20251227T134500
DTSTAMP:20260421T190221
CREATED:20250820T060021Z
LAST-MODIFIED:20251219T135818Z
UID:10002203-1766840400-1766843100@hallandskonstmuseum.se
SUMMARY:Guidad visning - Tyra Kleen
DESCRIPTION:I utställningen Tyra Kleen – Ständigt sökande\, lär vi känna Tyra Kleen (1874–1951)\, som var konstnär\, spiritist och världsresenär i det tidiga 1900-talet. Läs mer om utställningen. \nVåra guidade visningar ingår alltid i entréavgiften.
URL:https://hallandskonstmuseum.se/evenemang/guidad-visning-tyra-kleen/2025-12-27/
CATEGORIES:Aktivitet,Utställning
ATTACH;FMTTYPE=image/jpeg:https://hallandskonstmuseum.se/wp-content/uploads/2025/08/Tyra-Kleen_16_9.jpg
END:VEVENT
END:VCALENDAR