BEGIN:VCALENDAR
VERSION:2.0
PRODID:-//Hallands Konstmuseum - ECPv6.15.20//NONSGML v1.0//EN
CALSCALE:GREGORIAN
METHOD:PUBLISH
X-WR-CALNAME:Hallands Konstmuseum
X-ORIGINAL-URL:https://hallandskonstmuseum.se
X-WR-CALDESC:Händelser för Hallands Konstmuseum
REFRESH-INTERVAL;VALUE=DURATION:PT1H
X-Robots-Tag:noindex
X-PUBLISHED-TTL:PT1H
BEGIN:VTIMEZONE
TZID:Europe/Stockholm
BEGIN:DAYLIGHT
TZOFFSETFROM:+0100
TZOFFSETTO:+0200
TZNAME:CEST
DTSTART:20240331T010000
END:DAYLIGHT
BEGIN:STANDARD
TZOFFSETFROM:+0200
TZOFFSETTO:+0100
TZNAME:CET
DTSTART:20241027T010000
END:STANDARD
BEGIN:DAYLIGHT
TZOFFSETFROM:+0100
TZOFFSETTO:+0200
TZNAME:CEST
DTSTART:20250330T010000
END:DAYLIGHT
BEGIN:STANDARD
TZOFFSETFROM:+0200
TZOFFSETTO:+0100
TZNAME:CET
DTSTART:20251026T010000
END:STANDARD
BEGIN:DAYLIGHT
TZOFFSETFROM:+0100
TZOFFSETTO:+0200
TZNAME:CEST
DTSTART:20260329T010000
END:DAYLIGHT
BEGIN:STANDARD
TZOFFSETFROM:+0200
TZOFFSETTO:+0100
TZNAME:CET
DTSTART:20261025T010000
END:STANDARD
END:VTIMEZONE
BEGIN:VEVENT
DTSTART;TZID=Europe/Stockholm:20251214T130000
DTEND;TZID=Europe/Stockholm:20251214T134500
DTSTAMP:20260421T232541
CREATED:20250820T122608Z
LAST-MODIFIED:20251219T135452Z
UID:10002263-1765717200-1765719900@hallandskonstmuseum.se
SUMMARY:Guidad visning - Lennart Olson
DESCRIPTION:Utställningen visar fotografen Lennart Olsons bredd inom dokumentärfotografi och hans konstnärliga\, mer experimentella fotografiska utforskande. Läs mer om utställningen. \nVåra guidade visningar ingår alltid i entréavgiften.
URL:https://hallandskonstmuseum.se/evenemang/guidad-visning-lennart-olson/2025-12-14/
CATEGORIES:Aktivitet,Utställning
ATTACH;FMTTYPE=image/jpeg:https://hallandskonstmuseum.se/wp-content/uploads/2025/08/Lennart-Olson-Stazione-Termini-II-Rome-1953_16_9.jpg
END:VEVENT
BEGIN:VEVENT
DTSTART;TZID=Europe/Stockholm:20251213T143000
DTEND;TZID=Europe/Stockholm:20251213T151500
DTSTAMP:20260421T232541
CREATED:20250820T062833Z
LAST-MODIFIED:20251219T142713Z
UID:10002177-1765636200-1765638900@hallandskonstmuseum.se
SUMMARY:Guidad visning – Ur samlingen
DESCRIPTION:I utställningen Ur samlingen lyfter vi frågor kring konst och samlande. Resan från klassiskt regionalt museum 1933 till dagens moderna konstmuseum speglas i utställningens innehåll. Läs mer om utställningen. \nVåra guidade visningar ingår alltid i entréavgiften.
URL:https://hallandskonstmuseum.se/evenemang/guidad-visning-ur-samlingen-36-2-2-2/2025-12-13/
CATEGORIES:Aktivitet,Utställning
ATTACH;FMTTYPE=image/jpeg:https://hallandskonstmuseum.se/wp-content/uploads/2025/01/P1086530_webb.jpg
END:VEVENT
BEGIN:VEVENT
DTSTART;TZID=Europe/Stockholm:20251213T130000
DTEND;TZID=Europe/Stockholm:20251213T134500
DTSTAMP:20260421T232541
CREATED:20250820T060021Z
LAST-MODIFIED:20251219T135818Z
UID:10002201-1765630800-1765633500@hallandskonstmuseum.se
SUMMARY:Guidad visning - Tyra Kleen
DESCRIPTION:I utställningen Tyra Kleen – Ständigt sökande\, lär vi känna Tyra Kleen (1874–1951)\, som var konstnär\, spiritist och världsresenär i det tidiga 1900-talet. Läs mer om utställningen. \nVåra guidade visningar ingår alltid i entréavgiften.
URL:https://hallandskonstmuseum.se/evenemang/guidad-visning-tyra-kleen/2025-12-13/
CATEGORIES:Aktivitet,Utställning
ATTACH;FMTTYPE=image/jpeg:https://hallandskonstmuseum.se/wp-content/uploads/2025/08/Tyra-Kleen_16_9.jpg
END:VEVENT
BEGIN:VEVENT
DTSTART;TZID=Europe/Stockholm:20251207T143000
DTEND;TZID=Europe/Stockholm:20251207T151500
DTSTAMP:20260421T232541
CREATED:20250605T112024Z
LAST-MODIFIED:20250917T061550Z
UID:10002219-1765117800-1765120500@hallandskonstmuseum.se
SUMMARY:Guidad visning - Över haven
DESCRIPTION:Här visas marinmåleriet\, skeppen\, resorna och samtida konstnärers tolkningar av havet. Allt ur Hallands Konstmuseums egen samling. Läs mer om utställningen. \nVåra guidade visningar ingår alltid i entréavgiften.
URL:https://hallandskonstmuseum.se/evenemang/guidad-visning-over-haven/2025-12-07/
CATEGORIES:Aktivitet,Utställning
ATTACH;FMTTYPE=image/jpeg:https://hallandskonstmuseum.se/wp-content/uploads/2025/06/Alvar-Jonson_Komposition-med-batar_webb.jpg
END:VEVENT
BEGIN:VEVENT
DTSTART;TZID=Europe/Stockholm:20251207T130000
DTEND;TZID=Europe/Stockholm:20251207T134500
DTSTAMP:20260421T232541
CREATED:20250820T122608Z
LAST-MODIFIED:20251219T135452Z
UID:10002262-1765112400-1765115100@hallandskonstmuseum.se
SUMMARY:Guidad visning - Lennart Olson
DESCRIPTION:Utställningen visar fotografen Lennart Olsons bredd inom dokumentärfotografi och hans konstnärliga\, mer experimentella fotografiska utforskande. Läs mer om utställningen. \nVåra guidade visningar ingår alltid i entréavgiften.
URL:https://hallandskonstmuseum.se/evenemang/guidad-visning-lennart-olson/2025-12-07/
CATEGORIES:Aktivitet,Utställning
ATTACH;FMTTYPE=image/jpeg:https://hallandskonstmuseum.se/wp-content/uploads/2025/08/Lennart-Olson-Stazione-Termini-II-Rome-1953_16_9.jpg
END:VEVENT
BEGIN:VEVENT
DTSTART;TZID=Europe/Stockholm:20251206T143000
DTEND;TZID=Europe/Stockholm:20251206T151500
DTSTAMP:20260421T232541
CREATED:20250820T062833Z
LAST-MODIFIED:20251219T142713Z
UID:10002176-1765031400-1765034100@hallandskonstmuseum.se
SUMMARY:Guidad visning – Ur samlingen
DESCRIPTION:I utställningen Ur samlingen lyfter vi frågor kring konst och samlande. Resan från klassiskt regionalt museum 1933 till dagens moderna konstmuseum speglas i utställningens innehåll. Läs mer om utställningen. \nVåra guidade visningar ingår alltid i entréavgiften.
URL:https://hallandskonstmuseum.se/evenemang/guidad-visning-ur-samlingen-36-2-2-2/2025-12-06/
CATEGORIES:Aktivitet,Utställning
ATTACH;FMTTYPE=image/jpeg:https://hallandskonstmuseum.se/wp-content/uploads/2025/01/P1086530_webb.jpg
END:VEVENT
BEGIN:VEVENT
DTSTART;TZID=Europe/Stockholm:20251206T130000
DTEND;TZID=Europe/Stockholm:20251206T134500
DTSTAMP:20260421T232541
CREATED:20250820T060021Z
LAST-MODIFIED:20251219T135818Z
UID:10002200-1765026000-1765028700@hallandskonstmuseum.se
SUMMARY:Guidad visning - Tyra Kleen
DESCRIPTION:I utställningen Tyra Kleen – Ständigt sökande\, lär vi känna Tyra Kleen (1874–1951)\, som var konstnär\, spiritist och världsresenär i det tidiga 1900-talet. Läs mer om utställningen. \nVåra guidade visningar ingår alltid i entréavgiften.
URL:https://hallandskonstmuseum.se/evenemang/guidad-visning-tyra-kleen/2025-12-06/
CATEGORIES:Aktivitet,Utställning
ATTACH;FMTTYPE=image/jpeg:https://hallandskonstmuseum.se/wp-content/uploads/2025/08/Tyra-Kleen_16_9.jpg
END:VEVENT
BEGIN:VEVENT
DTSTART;TZID=Europe/Stockholm:20251203T173000
DTEND;TZID=Europe/Stockholm:20251203T193000
DTSTAMP:20260421T232541
CREATED:20250919T082038Z
LAST-MODIFIED:20250919T082347Z
UID:10002298-1764783000-1764790200@hallandskonstmuseum.se
SUMMARY:Konstig vinprovning
DESCRIPTION:Vad kan en sommelier och en konstpedagog koka ihop tillsammans? Det och lite till får vi reda på under en guidad visning i Tyra Kleen – Ständigt sökande\, där vi fördjupar oss i tre olika konstverk. Därefter bjuds vi in till vinprovning på Brunchbaren för att prova tre olika viner med tilltugg\, och fundera på vad de kan ha gemensamt med konstverken eller konstnärerna. \nPris: 495 kr/person. Begränsat antal platser. Endast förköp via Brunchbaren.se. \nTill provningen bjuds det även på en liten smakbit\, så ange eventuell allergi i bokningen. Brunchbaren kan ej ta hänsyn till val av specialkost. \nKonstig vinprovning tar ca 1\,5-2 timmar.
URL:https://hallandskonstmuseum.se/evenemang/konstig-vinprovning-4/
CATEGORIES:Aktivitet
ATTACH;FMTTYPE=image/jpeg:https://hallandskonstmuseum.se/wp-content/uploads/2025/08/5451D8BF-DF01-4455-90A6-7009BAEFC1DE.jpg
END:VEVENT
BEGIN:VEVENT
DTSTART;TZID=Europe/Stockholm:20251130T143000
DTEND;TZID=Europe/Stockholm:20251130T151500
DTSTAMP:20260421T232541
CREATED:20250605T112024Z
LAST-MODIFIED:20250917T061550Z
UID:10002218-1764513000-1764515700@hallandskonstmuseum.se
SUMMARY:Guidad visning - Över haven
DESCRIPTION:Här visas marinmåleriet\, skeppen\, resorna och samtida konstnärers tolkningar av havet. Allt ur Hallands Konstmuseums egen samling. Läs mer om utställningen. \nVåra guidade visningar ingår alltid i entréavgiften.
URL:https://hallandskonstmuseum.se/evenemang/guidad-visning-over-haven/2025-11-30/
CATEGORIES:Aktivitet,Utställning
ATTACH;FMTTYPE=image/jpeg:https://hallandskonstmuseum.se/wp-content/uploads/2025/06/Alvar-Jonson_Komposition-med-batar_webb.jpg
END:VEVENT
BEGIN:VEVENT
DTSTART;TZID=Europe/Stockholm:20251130T130000
DTEND;TZID=Europe/Stockholm:20251130T134500
DTSTAMP:20260421T232541
CREATED:20250820T122608Z
LAST-MODIFIED:20251219T135452Z
UID:10002241-1764507600-1764510300@hallandskonstmuseum.se
SUMMARY:Guidad visning - Lennart Olson
DESCRIPTION:Utställningen visar fotografen Lennart Olsons bredd inom dokumentärfotografi och hans konstnärliga\, mer experimentella fotografiska utforskande. Läs mer om utställningen. \nVåra guidade visningar ingår alltid i entréavgiften.
URL:https://hallandskonstmuseum.se/evenemang/guidad-visning-lennart-olson/2025-11-30/
CATEGORIES:Aktivitet,Utställning
ATTACH;FMTTYPE=image/jpeg:https://hallandskonstmuseum.se/wp-content/uploads/2025/08/Lennart-Olson-Stazione-Termini-II-Rome-1953_16_9.jpg
END:VEVENT
BEGIN:VEVENT
DTSTART;TZID=Europe/Stockholm:20251129T143000
DTEND;TZID=Europe/Stockholm:20251129T151500
DTSTAMP:20260421T232541
CREATED:20250820T062833Z
LAST-MODIFIED:20251219T142713Z
UID:10002175-1764426600-1764429300@hallandskonstmuseum.se
SUMMARY:Guidad visning – Ur samlingen
DESCRIPTION:I utställningen Ur samlingen lyfter vi frågor kring konst och samlande. Resan från klassiskt regionalt museum 1933 till dagens moderna konstmuseum speglas i utställningens innehåll. Läs mer om utställningen. \nVåra guidade visningar ingår alltid i entréavgiften.
URL:https://hallandskonstmuseum.se/evenemang/guidad-visning-ur-samlingen-36-2-2-2/2025-11-29/
CATEGORIES:Aktivitet,Utställning
ATTACH;FMTTYPE=image/jpeg:https://hallandskonstmuseum.se/wp-content/uploads/2025/01/P1086530_webb.jpg
END:VEVENT
BEGIN:VEVENT
DTSTART;TZID=Europe/Stockholm:20251129T130000
DTEND;TZID=Europe/Stockholm:20251129T134500
DTSTAMP:20260421T232541
CREATED:20250820T060021Z
LAST-MODIFIED:20251219T135818Z
UID:10002199-1764421200-1764423900@hallandskonstmuseum.se
SUMMARY:Guidad visning - Tyra Kleen
DESCRIPTION:I utställningen Tyra Kleen – Ständigt sökande\, lär vi känna Tyra Kleen (1874–1951)\, som var konstnär\, spiritist och världsresenär i det tidiga 1900-talet. Läs mer om utställningen. \nVåra guidade visningar ingår alltid i entréavgiften.
URL:https://hallandskonstmuseum.se/evenemang/guidad-visning-tyra-kleen/2025-11-29/
CATEGORIES:Aktivitet,Utställning
ATTACH;FMTTYPE=image/jpeg:https://hallandskonstmuseum.se/wp-content/uploads/2025/08/Tyra-Kleen_16_9.jpg
END:VEVENT
BEGIN:VEVENT
DTSTART;TZID=Europe/Stockholm:20251123T143000
DTEND;TZID=Europe/Stockholm:20251123T151500
DTSTAMP:20260421T232541
CREATED:20250605T112024Z
LAST-MODIFIED:20250917T061550Z
UID:10002217-1763908200-1763910900@hallandskonstmuseum.se
SUMMARY:Guidad visning - Över haven
DESCRIPTION:Här visas marinmåleriet\, skeppen\, resorna och samtida konstnärers tolkningar av havet. Allt ur Hallands Konstmuseums egen samling. Läs mer om utställningen. \nVåra guidade visningar ingår alltid i entréavgiften.
URL:https://hallandskonstmuseum.se/evenemang/guidad-visning-over-haven/2025-11-23/
CATEGORIES:Aktivitet,Utställning
ATTACH;FMTTYPE=image/jpeg:https://hallandskonstmuseum.se/wp-content/uploads/2025/06/Alvar-Jonson_Komposition-med-batar_webb.jpg
END:VEVENT
BEGIN:VEVENT
DTSTART;TZID=Europe/Stockholm:20251123T130000
DTEND;TZID=Europe/Stockholm:20251123T140000
DTSTAMP:20260421T232541
CREATED:20250605T114912Z
LAST-MODIFIED:20250820T121517Z
UID:10002228-1763902800-1763906400@hallandskonstmuseum.se
SUMMARY:Husesyn - museet som konstverk
DESCRIPTION:Guidad vandring genom museet med fokus på de konstnärliga gestaltningarna i byggnaden. \nVåra guidade visningar ingår alltid i entréavgiften. \nLäs mer om de konstnärliga gestaltningarna.
URL:https://hallandskonstmuseum.se/evenemang/husesyn-museet-som-konstverk-10-3-2/2025-11-23/
CATEGORIES:Aktivitet
ATTACH;FMTTYPE=image/jpeg:https://hallandskonstmuseum.se/wp-content/uploads/2024/01/Rundtur_museet_2_600x340px.jpg
END:VEVENT
BEGIN:VEVENT
DTSTART;TZID=Europe/Stockholm:20251116T143000
DTEND;TZID=Europe/Stockholm:20251116T151500
DTSTAMP:20260421T232541
CREATED:20250605T112024Z
LAST-MODIFIED:20250917T061550Z
UID:10002216-1763303400-1763306100@hallandskonstmuseum.se
SUMMARY:Guidad visning - Över haven
DESCRIPTION:Här visas marinmåleriet\, skeppen\, resorna och samtida konstnärers tolkningar av havet. Allt ur Hallands Konstmuseums egen samling. Läs mer om utställningen. \nVåra guidade visningar ingår alltid i entréavgiften.
URL:https://hallandskonstmuseum.se/evenemang/guidad-visning-over-haven/2025-11-16/
CATEGORIES:Aktivitet,Utställning
ATTACH;FMTTYPE=image/jpeg:https://hallandskonstmuseum.se/wp-content/uploads/2025/06/Alvar-Jonson_Komposition-med-batar_webb.jpg
END:VEVENT
BEGIN:VEVENT
DTSTART;TZID=Europe/Stockholm:20251116T130000
DTEND;TZID=Europe/Stockholm:20251116T140000
DTSTAMP:20260421T232541
CREATED:20250605T114912Z
LAST-MODIFIED:20250820T121517Z
UID:10002227-1763298000-1763301600@hallandskonstmuseum.se
SUMMARY:Husesyn - museet som konstverk
DESCRIPTION:Guidad vandring genom museet med fokus på de konstnärliga gestaltningarna i byggnaden. \nVåra guidade visningar ingår alltid i entréavgiften. \nLäs mer om de konstnärliga gestaltningarna.
URL:https://hallandskonstmuseum.se/evenemang/husesyn-museet-som-konstverk-10-3-2/2025-11-16/
CATEGORIES:Aktivitet
ATTACH;FMTTYPE=image/jpeg:https://hallandskonstmuseum.se/wp-content/uploads/2024/01/Rundtur_museet_2_600x340px.jpg
END:VEVENT
BEGIN:VEVENT
DTSTART;TZID=Europe/Stockholm:20251115T143000
DTEND;TZID=Europe/Stockholm:20251115T151500
DTSTAMP:20260421T232541
CREATED:20250820T062833Z
LAST-MODIFIED:20251219T142713Z
UID:10002174-1763217000-1763219700@hallandskonstmuseum.se
SUMMARY:Guidad visning – Ur samlingen
DESCRIPTION:I utställningen Ur samlingen lyfter vi frågor kring konst och samlande. Resan från klassiskt regionalt museum 1933 till dagens moderna konstmuseum speglas i utställningens innehåll. Läs mer om utställningen. \nVåra guidade visningar ingår alltid i entréavgiften.
URL:https://hallandskonstmuseum.se/evenemang/guidad-visning-ur-samlingen-36-2-2-2/2025-11-15/
CATEGORIES:Aktivitet,Utställning
ATTACH;FMTTYPE=image/jpeg:https://hallandskonstmuseum.se/wp-content/uploads/2025/01/P1086530_webb.jpg
END:VEVENT
BEGIN:VEVENT
DTSTART;TZID=Europe/Stockholm:20251115T130000
DTEND;TZID=Europe/Stockholm:20251115T134500
DTSTAMP:20260421T232541
CREATED:20250820T060021Z
LAST-MODIFIED:20251219T135818Z
UID:10002198-1763211600-1763214300@hallandskonstmuseum.se
SUMMARY:Guidad visning - Tyra Kleen
DESCRIPTION:I utställningen Tyra Kleen – Ständigt sökande\, lär vi känna Tyra Kleen (1874–1951)\, som var konstnär\, spiritist och världsresenär i det tidiga 1900-talet. Läs mer om utställningen. \nVåra guidade visningar ingår alltid i entréavgiften.
URL:https://hallandskonstmuseum.se/evenemang/guidad-visning-tyra-kleen/2025-11-15/
CATEGORIES:Aktivitet,Utställning
ATTACH;FMTTYPE=image/jpeg:https://hallandskonstmuseum.se/wp-content/uploads/2025/08/Tyra-Kleen_16_9.jpg
END:VEVENT
BEGIN:VEVENT
DTSTART;TZID=Europe/Stockholm:20251109T143000
DTEND;TZID=Europe/Stockholm:20251109T151500
DTSTAMP:20260421T232541
CREATED:20250605T112024Z
LAST-MODIFIED:20250917T061550Z
UID:10002215-1762698600-1762701300@hallandskonstmuseum.se
SUMMARY:Guidad visning - Över haven
DESCRIPTION:Här visas marinmåleriet\, skeppen\, resorna och samtida konstnärers tolkningar av havet. Allt ur Hallands Konstmuseums egen samling. Läs mer om utställningen. \nVåra guidade visningar ingår alltid i entréavgiften.
URL:https://hallandskonstmuseum.se/evenemang/guidad-visning-over-haven/2025-11-09/
CATEGORIES:Aktivitet,Utställning
ATTACH;FMTTYPE=image/jpeg:https://hallandskonstmuseum.se/wp-content/uploads/2025/06/Alvar-Jonson_Komposition-med-batar_webb.jpg
END:VEVENT
BEGIN:VEVENT
DTSTART;TZID=Europe/Stockholm:20251109T130000
DTEND;TZID=Europe/Stockholm:20251109T140000
DTSTAMP:20260421T232541
CREATED:20250605T114912Z
LAST-MODIFIED:20250820T121517Z
UID:10002226-1762693200-1762696800@hallandskonstmuseum.se
SUMMARY:Husesyn - museet som konstverk
DESCRIPTION:Guidad vandring genom museet med fokus på de konstnärliga gestaltningarna i byggnaden. \nVåra guidade visningar ingår alltid i entréavgiften. \nLäs mer om de konstnärliga gestaltningarna.
URL:https://hallandskonstmuseum.se/evenemang/husesyn-museet-som-konstverk-10-3-2/2025-11-09/
CATEGORIES:Aktivitet
ATTACH;FMTTYPE=image/jpeg:https://hallandskonstmuseum.se/wp-content/uploads/2024/01/Rundtur_museet_2_600x340px.jpg
END:VEVENT
BEGIN:VEVENT
DTSTART;TZID=Europe/Stockholm:20251108T143000
DTEND;TZID=Europe/Stockholm:20251108T151500
DTSTAMP:20260421T232541
CREATED:20250820T062833Z
LAST-MODIFIED:20251219T142713Z
UID:10002173-1762612200-1762614900@hallandskonstmuseum.se
SUMMARY:Guidad visning – Ur samlingen
DESCRIPTION:I utställningen Ur samlingen lyfter vi frågor kring konst och samlande. Resan från klassiskt regionalt museum 1933 till dagens moderna konstmuseum speglas i utställningens innehåll. Läs mer om utställningen. \nVåra guidade visningar ingår alltid i entréavgiften.
URL:https://hallandskonstmuseum.se/evenemang/guidad-visning-ur-samlingen-36-2-2-2/2025-11-08/
CATEGORIES:Aktivitet,Utställning
ATTACH;FMTTYPE=image/jpeg:https://hallandskonstmuseum.se/wp-content/uploads/2025/01/P1086530_webb.jpg
END:VEVENT
BEGIN:VEVENT
DTSTART;TZID=Europe/Stockholm:20251108T130000
DTEND;TZID=Europe/Stockholm:20251108T134500
DTSTAMP:20260421T232541
CREATED:20250820T060021Z
LAST-MODIFIED:20251219T135818Z
UID:10002197-1762606800-1762609500@hallandskonstmuseum.se
SUMMARY:Guidad visning - Tyra Kleen
DESCRIPTION:I utställningen Tyra Kleen – Ständigt sökande\, lär vi känna Tyra Kleen (1874–1951)\, som var konstnär\, spiritist och världsresenär i det tidiga 1900-talet. Läs mer om utställningen. \nVåra guidade visningar ingår alltid i entréavgiften.
URL:https://hallandskonstmuseum.se/evenemang/guidad-visning-tyra-kleen/2025-11-08/
CATEGORIES:Aktivitet,Utställning
ATTACH;FMTTYPE=image/jpeg:https://hallandskonstmuseum.se/wp-content/uploads/2025/08/Tyra-Kleen_16_9.jpg
END:VEVENT
BEGIN:VEVENT
DTSTART;TZID=Europe/Stockholm:20251105T173000
DTEND;TZID=Europe/Stockholm:20251105T193000
DTSTAMP:20260421T232541
CREATED:20250919T072636Z
LAST-MODIFIED:20250919T075035Z
UID:10002295-1762363800-1762371000@hallandskonstmuseum.se
SUMMARY:Guidad visning med Afternoon Tea
DESCRIPTION:Hitta på något mysigt i höstmörkret! Kvällen börjar med en guidad visning av Tyra Kleen – Ständigt sökande. Därefter väntar en lyxig avslutning på Brunchbaren – en bubblig Afternoon Tea med välfyllt fat av klassiska godsaker\, te eller kaffe och alkoholfritt mousserande\, går att uppgradera till ett glas cava på plats för endast 30 kr. \nPris: 395 kr/person. I priset ingår: entré till museet\, guidad visning och Afternoon Tea. \nVälkommen på en härlig kväll som kombinerar det bästa av av två världar. Perfekt för en lyxig vardagskväll eller som en minnesvärd present. \nBegränsat antal platser. Endast förköp via Brunchbaren.se.
URL:https://hallandskonstmuseum.se/evenemang/guidad-visning-med-afternoon-tea-4/
CATEGORIES:Aktivitet
ATTACH;FMTTYPE=image/jpeg:https://hallandskonstmuseum.se/wp-content/uploads/2025/09/AFT_2025.jpg
END:VEVENT
BEGIN:VEVENT
DTSTART;TZID=Europe/Stockholm:20251102T143000
DTEND;TZID=Europe/Stockholm:20251102T151500
DTSTAMP:20260421T232541
CREATED:20250605T112024Z
LAST-MODIFIED:20250917T061550Z
UID:10002214-1762093800-1762096500@hallandskonstmuseum.se
SUMMARY:Guidad visning - Över haven
DESCRIPTION:Här visas marinmåleriet\, skeppen\, resorna och samtida konstnärers tolkningar av havet. Allt ur Hallands Konstmuseums egen samling. Läs mer om utställningen. \nVåra guidade visningar ingår alltid i entréavgiften.
URL:https://hallandskonstmuseum.se/evenemang/guidad-visning-over-haven/2025-11-02/
CATEGORIES:Aktivitet,Utställning
ATTACH;FMTTYPE=image/jpeg:https://hallandskonstmuseum.se/wp-content/uploads/2025/06/Alvar-Jonson_Komposition-med-batar_webb.jpg
END:VEVENT
BEGIN:VEVENT
DTSTART;TZID=Europe/Stockholm:20251102T130000
DTEND;TZID=Europe/Stockholm:20251102T134500
DTSTAMP:20260421T232541
CREATED:20250509T115506Z
LAST-MODIFIED:20250917T061405Z
UID:10002190-1762088400-1762091100@hallandskonstmuseum.se
SUMMARY:Guidad visning - Expedition Konst
DESCRIPTION:Expedition Konst är en samlingsutställning med verk av 13 svenska konstnärer som alla deltagit i Polarforskningssekretariatets konstprogram. I utställningen får du ta del av verk som skapats i samband med expeditioner. Läs mer om utställningen. \nVåra guidade visningar ingår alltid i entréavgiften.
URL:https://hallandskonstmuseum.se/evenemang/guidad-visning-expedition-konst-2/2025-11-02/
CATEGORIES:Aktivitet,Utställning
ATTACH;FMTTYPE=image/jpeg:https://hallandskonstmuseum.se/wp-content/uploads/2025/03/Lars-Lerin_Snow-hill-II_press.jpg
END:VEVENT
BEGIN:VEVENT
DTSTART;TZID=Europe/Stockholm:20251101T143000
DTEND;TZID=Europe/Stockholm:20251101T151500
DTSTAMP:20260421T232541
CREATED:20250820T062833Z
LAST-MODIFIED:20251219T142713Z
UID:10002172-1762007400-1762010100@hallandskonstmuseum.se
SUMMARY:Guidad visning – Ur samlingen
DESCRIPTION:I utställningen Ur samlingen lyfter vi frågor kring konst och samlande. Resan från klassiskt regionalt museum 1933 till dagens moderna konstmuseum speglas i utställningens innehåll. Läs mer om utställningen. \nVåra guidade visningar ingår alltid i entréavgiften.
URL:https://hallandskonstmuseum.se/evenemang/guidad-visning-ur-samlingen-36-2-2-2/2025-11-01/
CATEGORIES:Aktivitet,Utställning
ATTACH;FMTTYPE=image/jpeg:https://hallandskonstmuseum.se/wp-content/uploads/2025/01/P1086530_webb.jpg
END:VEVENT
BEGIN:VEVENT
DTSTART;TZID=Europe/Stockholm:20251101T130000
DTEND;TZID=Europe/Stockholm:20251101T134500
DTSTAMP:20260421T232541
CREATED:20250820T060021Z
LAST-MODIFIED:20251219T135818Z
UID:10002196-1762002000-1762004700@hallandskonstmuseum.se
SUMMARY:Guidad visning - Tyra Kleen
DESCRIPTION:I utställningen Tyra Kleen – Ständigt sökande\, lär vi känna Tyra Kleen (1874–1951)\, som var konstnär\, spiritist och världsresenär i det tidiga 1900-talet. Läs mer om utställningen. \nVåra guidade visningar ingår alltid i entréavgiften.
URL:https://hallandskonstmuseum.se/evenemang/guidad-visning-tyra-kleen/2025-11-01/
CATEGORIES:Aktivitet,Utställning
ATTACH;FMTTYPE=image/jpeg:https://hallandskonstmuseum.se/wp-content/uploads/2025/08/Tyra-Kleen_16_9.jpg
END:VEVENT
BEGIN:VEVENT
DTSTART;TZID=Europe/Stockholm:20251029T173000
DTEND;TZID=Europe/Stockholm:20251029T193000
DTSTAMP:20260421T232541
CREATED:20250919T071903Z
LAST-MODIFIED:20250919T075135Z
UID:10002294-1761759000-1761766200@hallandskonstmuseum.se
SUMMARY:Guidad visning med Afternoon Tea
DESCRIPTION:Hitta på något mysigt i höstmörkret! Kvällen börjar med en guidad visning av Expedition Konst. Därefter väntar en lyxig avslutning på Brunchbaren – en bubblig Afternoon Tea med välfyllt fat av klassiska godsaker\, te eller kaffe och alkoholfritt mousserande\, går att uppgradera till ett glas cava på plats för endast 30 kr. \nPris: 395 kr/person. I priset ingår entré till museet\, guidad visning och Afternoon Tea. \nVälkommen på en härlig kväll som kombinerar det bästa av av två världar. Perfekt för en lyxig vardagskväll eller som en minnesvärd present. \nBegränsat antal platser. Endast förköp via Brunchbaren.se.
URL:https://hallandskonstmuseum.se/evenemang/guidad-visning-med-afternoon-tea-3/
CATEGORIES:Aktivitet
ATTACH;FMTTYPE=image/jpeg:https://hallandskonstmuseum.se/wp-content/uploads/2025/09/AFT_2025.jpg
END:VEVENT
BEGIN:VEVENT
DTSTART;TZID=Europe/Stockholm:20251026T143000
DTEND;TZID=Europe/Stockholm:20251026T151500
DTSTAMP:20260421T232541
CREATED:20250605T112024Z
LAST-MODIFIED:20250917T061550Z
UID:10002213-1761489000-1761491700@hallandskonstmuseum.se
SUMMARY:Guidad visning - Över haven
DESCRIPTION:Här visas marinmåleriet\, skeppen\, resorna och samtida konstnärers tolkningar av havet. Allt ur Hallands Konstmuseums egen samling. Läs mer om utställningen. \nVåra guidade visningar ingår alltid i entréavgiften.
URL:https://hallandskonstmuseum.se/evenemang/guidad-visning-over-haven/2025-10-26/
CATEGORIES:Aktivitet,Utställning
ATTACH;FMTTYPE=image/jpeg:https://hallandskonstmuseum.se/wp-content/uploads/2025/06/Alvar-Jonson_Komposition-med-batar_webb.jpg
END:VEVENT
BEGIN:VEVENT
DTSTART;TZID=Europe/Stockholm:20251026T130000
DTEND;TZID=Europe/Stockholm:20251026T134500
DTSTAMP:20260421T232541
CREATED:20250509T115506Z
LAST-MODIFIED:20250917T061405Z
UID:10002189-1761483600-1761486300@hallandskonstmuseum.se
SUMMARY:Guidad visning - Expedition Konst
DESCRIPTION:Expedition Konst är en samlingsutställning med verk av 13 svenska konstnärer som alla deltagit i Polarforskningssekretariatets konstprogram. I utställningen får du ta del av verk som skapats i samband med expeditioner. Läs mer om utställningen. \nVåra guidade visningar ingår alltid i entréavgiften.
URL:https://hallandskonstmuseum.se/evenemang/guidad-visning-expedition-konst-2/2025-10-26/
CATEGORIES:Aktivitet,Utställning
ATTACH;FMTTYPE=image/jpeg:https://hallandskonstmuseum.se/wp-content/uploads/2025/03/Lars-Lerin_Snow-hill-II_press.jpg
END:VEVENT
END:VCALENDAR