BEGIN:VCALENDAR
VERSION:2.0
PRODID:-//Hallands Konstmuseum - ECPv6.15.20//NONSGML v1.0//EN
CALSCALE:GREGORIAN
METHOD:PUBLISH
X-ORIGINAL-URL:https://hallandskonstmuseum.se
X-WR-CALDESC:Händelser för Hallands Konstmuseum
REFRESH-INTERVAL;VALUE=DURATION:PT1H
X-Robots-Tag:noindex
X-PUBLISHED-TTL:PT1H
BEGIN:VTIMEZONE
TZID:Europe/Stockholm
BEGIN:DAYLIGHT
TZOFFSETFROM:+0100
TZOFFSETTO:+0200
TZNAME:CEST
DTSTART:20240331T010000
END:DAYLIGHT
BEGIN:STANDARD
TZOFFSETFROM:+0200
TZOFFSETTO:+0100
TZNAME:CET
DTSTART:20241027T010000
END:STANDARD
BEGIN:DAYLIGHT
TZOFFSETFROM:+0100
TZOFFSETTO:+0200
TZNAME:CEST
DTSTART:20250330T010000
END:DAYLIGHT
BEGIN:STANDARD
TZOFFSETFROM:+0200
TZOFFSETTO:+0100
TZNAME:CET
DTSTART:20251026T010000
END:STANDARD
BEGIN:DAYLIGHT
TZOFFSETFROM:+0100
TZOFFSETTO:+0200
TZNAME:CEST
DTSTART:20260329T010000
END:DAYLIGHT
BEGIN:STANDARD
TZOFFSETFROM:+0200
TZOFFSETTO:+0100
TZNAME:CET
DTSTART:20261025T010000
END:STANDARD
END:VTIMEZONE
BEGIN:VEVENT
DTSTART;TZID=Europe/Stockholm:20251108T110000
DTEND;TZID=Europe/Stockholm:20251108T140000
DTSTAMP:20260424T102138
CREATED:20251022T134903Z
LAST-MODIFIED:20251028T111748Z
UID:10002304-1762599600-1762610400@hallandskonstmuseum.se
SUMMARY:Arkivens dag på Stadsbiblioteket i Halmstad
DESCRIPTION:Arkivens dag återkommer varje år med nytt tema. I år handlar det om Natur och friluftsliv. På Stadsbiblioteket i Halmstad arrangeras en minimässa där Hallands Konstmuseum medverkar.\nVi visar fotografier från tiden mellan 1930-1960 med temat ”Upptäcka Halland” genom ett urval bilder som fått illustrera den halländska bygden i turistbroschyrer och böcker. \nFör tider och mer info\, se arkivensdag.nu
URL:https://hallandskonstmuseum.se/evenemang/arkivens-dag-pa-stadsbiblioteket-i-halmstad/
LOCATION:Stadsbiblioteket Halmstad\, Axel Olsons gata 1\, Halmstad\, Sweden
CATEGORIES:Aktivitet
ATTACH;FMTTYPE=image/jpeg:https://hallandskonstmuseum.se/wp-content/uploads/2025/10/Arkivens-dag_2025_v598.jpg
END:VEVENT
END:VCALENDAR