BEGIN:VCALENDAR
VERSION:2.0
PRODID:-//Hallands Konstmuseum - ECPv6.15.20//NONSGML v1.0//EN
CALSCALE:GREGORIAN
METHOD:PUBLISH
X-ORIGINAL-URL:https://hallandskonstmuseum.se
X-WR-CALDESC:Händelser för Hallands Konstmuseum
REFRESH-INTERVAL;VALUE=DURATION:PT1H
X-Robots-Tag:noindex
X-PUBLISHED-TTL:PT1H
BEGIN:VTIMEZONE
TZID:Europe/Stockholm
BEGIN:DAYLIGHT
TZOFFSETFROM:+0100
TZOFFSETTO:+0200
TZNAME:CEST
DTSTART:20250330T010000
END:DAYLIGHT
BEGIN:STANDARD
TZOFFSETFROM:+0200
TZOFFSETTO:+0100
TZNAME:CET
DTSTART:20251026T010000
END:STANDARD
BEGIN:DAYLIGHT
TZOFFSETFROM:+0100
TZOFFSETTO:+0200
TZNAME:CEST
DTSTART:20260329T010000
END:DAYLIGHT
BEGIN:STANDARD
TZOFFSETFROM:+0200
TZOFFSETTO:+0100
TZNAME:CET
DTSTART:20261025T010000
END:STANDARD
BEGIN:DAYLIGHT
TZOFFSETFROM:+0100
TZOFFSETTO:+0200
TZNAME:CEST
DTSTART:20270328T010000
END:DAYLIGHT
BEGIN:STANDARD
TZOFFSETFROM:+0200
TZOFFSETTO:+0100
TZNAME:CET
DTSTART:20271031T010000
END:STANDARD
END:VTIMEZONE
BEGIN:VEVENT
DTSTART;TZID=Europe/Stockholm:20260301T143000
DTEND;TZID=Europe/Stockholm:20260301T151500
DTSTAMP:20260421T173825
CREATED:20251219T141021Z
LAST-MODIFIED:20260108T112906Z
UID:10002339-1772375400-1772378100@hallandskonstmuseum.se
SUMMARY:Guidad visning – Eufemia
DESCRIPTION:I början av 1980-talet gick en grupp kvinnliga textilkonstnärer samman under namnet Eufemia. Nu lyfter Hallands Konstmuseum fram detta kapitel i Hallands konsthistoria\, på samma plats där allt en gång började. Läs mer om utställningen. \nVåra guidade visningar ingår alltid i entréavgiften.
URL:https://hallandskonstmuseum.se/evenemang/guidad-visning-eufemia/2026-03-01/
CATEGORIES:Aktivitet,Utställning
ATTACH;FMTTYPE=image/jpeg:https://hallandskonstmuseum.se/wp-content/uploads/2025/12/Eufemia_gruppbild_logga-1-scaled.jpg
END:VEVENT
BEGIN:VEVENT
DTSTART;TZID=Europe/Stockholm:20260308T143000
DTEND;TZID=Europe/Stockholm:20260308T151500
DTSTAMP:20260421T173825
CREATED:20251219T141021Z
LAST-MODIFIED:20260108T112906Z
UID:10002340-1772980200-1772982900@hallandskonstmuseum.se
SUMMARY:Guidad visning – Eufemia
DESCRIPTION:I början av 1980-talet gick en grupp kvinnliga textilkonstnärer samman under namnet Eufemia. Nu lyfter Hallands Konstmuseum fram detta kapitel i Hallands konsthistoria\, på samma plats där allt en gång började. Läs mer om utställningen. \nVåra guidade visningar ingår alltid i entréavgiften.
URL:https://hallandskonstmuseum.se/evenemang/guidad-visning-eufemia/2026-03-08/
CATEGORIES:Aktivitet,Utställning
ATTACH;FMTTYPE=image/jpeg:https://hallandskonstmuseum.se/wp-content/uploads/2025/12/Eufemia_gruppbild_logga-1-scaled.jpg
END:VEVENT
BEGIN:VEVENT
DTSTART;TZID=Europe/Stockholm:20260315T130000
DTEND;TZID=Europe/Stockholm:20260315T134500
DTSTAMP:20260421T173825
CREATED:20251219T141516Z
LAST-MODIFIED:20260212T141401Z
UID:10002450-1773579600-1773582300@hallandskonstmuseum.se
SUMMARY:Guidad visning – Eufemia
DESCRIPTION:Genom en grupp kvinnliga textilkonstnärer lyfter Hallands Konstmuseum fram ett bortglömt kapitel i Hallands konsthistoria. Läs mer om utställningen. \nVåra guidade visningar ingår alltid i entréavgiften.
URL:https://hallandskonstmuseum.se/evenemang/guidad-visning-eufemia-2/2026-03-15/
CATEGORIES:Aktivitet,Utställning
ATTACH;FMTTYPE=image/jpeg:https://hallandskonstmuseum.se/wp-content/uploads/2025/12/Eufemia_gruppbild_logga-1-scaled.jpg
END:VEVENT
BEGIN:VEVENT
DTSTART;TZID=Europe/Stockholm:20260322T130000
DTEND;TZID=Europe/Stockholm:20260322T134500
DTSTAMP:20260421T173825
CREATED:20251219T141516Z
LAST-MODIFIED:20260212T141401Z
UID:10002451-1774184400-1774187100@hallandskonstmuseum.se
SUMMARY:Guidad visning – Eufemia
DESCRIPTION:Genom en grupp kvinnliga textilkonstnärer lyfter Hallands Konstmuseum fram ett bortglömt kapitel i Hallands konsthistoria. Läs mer om utställningen. \nVåra guidade visningar ingår alltid i entréavgiften.
URL:https://hallandskonstmuseum.se/evenemang/guidad-visning-eufemia-2/2026-03-22/
CATEGORIES:Aktivitet,Utställning
ATTACH;FMTTYPE=image/jpeg:https://hallandskonstmuseum.se/wp-content/uploads/2025/12/Eufemia_gruppbild_logga-1-scaled.jpg
END:VEVENT
BEGIN:VEVENT
DTSTART;TZID=Europe/Stockholm:20260329T130000
DTEND;TZID=Europe/Stockholm:20260329T134500
DTSTAMP:20260421T173825
CREATED:20251219T141516Z
LAST-MODIFIED:20260212T141401Z
UID:10002452-1774789200-1774791900@hallandskonstmuseum.se
SUMMARY:Guidad visning – Eufemia
DESCRIPTION:Genom en grupp kvinnliga textilkonstnärer lyfter Hallands Konstmuseum fram ett bortglömt kapitel i Hallands konsthistoria. Läs mer om utställningen. \nVåra guidade visningar ingår alltid i entréavgiften.
URL:https://hallandskonstmuseum.se/evenemang/guidad-visning-eufemia-2/2026-03-29/
CATEGORIES:Aktivitet,Utställning
ATTACH;FMTTYPE=image/jpeg:https://hallandskonstmuseum.se/wp-content/uploads/2025/12/Eufemia_gruppbild_logga-1-scaled.jpg
END:VEVENT
END:VCALENDAR