BEGIN:VCALENDAR
VERSION:2.0
PRODID:-//Hallands Konstmuseum - ECPv6.15.20//NONSGML v1.0//EN
CALSCALE:GREGORIAN
METHOD:PUBLISH
X-WR-CALNAME:Hallands Konstmuseum
X-ORIGINAL-URL:https://hallandskonstmuseum.se
X-WR-CALDESC:Händelser för Hallands Konstmuseum
REFRESH-INTERVAL;VALUE=DURATION:PT1H
X-Robots-Tag:noindex
X-PUBLISHED-TTL:PT1H
BEGIN:VTIMEZONE
TZID:Europe/Stockholm
BEGIN:DAYLIGHT
TZOFFSETFROM:+0100
TZOFFSETTO:+0200
TZNAME:CEST
DTSTART:20250330T010000
END:DAYLIGHT
BEGIN:STANDARD
TZOFFSETFROM:+0200
TZOFFSETTO:+0100
TZNAME:CET
DTSTART:20251026T010000
END:STANDARD
BEGIN:DAYLIGHT
TZOFFSETFROM:+0100
TZOFFSETTO:+0200
TZNAME:CEST
DTSTART:20260329T010000
END:DAYLIGHT
BEGIN:STANDARD
TZOFFSETFROM:+0200
TZOFFSETTO:+0100
TZNAME:CET
DTSTART:20261025T010000
END:STANDARD
BEGIN:DAYLIGHT
TZOFFSETFROM:+0100
TZOFFSETTO:+0200
TZNAME:CEST
DTSTART:20270328T010000
END:DAYLIGHT
BEGIN:STANDARD
TZOFFSETFROM:+0200
TZOFFSETTO:+0100
TZNAME:CET
DTSTART:20271031T010000
END:STANDARD
END:VTIMEZONE
BEGIN:VEVENT
DTSTART;TZID=Europe/Stockholm:20260222T143000
DTEND;TZID=Europe/Stockholm:20260222T151500
DTSTAMP:20260421T204405
CREATED:20251219T141021Z
LAST-MODIFIED:20260108T112906Z
UID:10002338-1771770600-1771773300@hallandskonstmuseum.se
SUMMARY:Guidad visning – Eufemia
DESCRIPTION:I början av 1980-talet gick en grupp kvinnliga textilkonstnärer samman under namnet Eufemia. Nu lyfter Hallands Konstmuseum fram detta kapitel i Hallands konsthistoria\, på samma plats där allt en gång började. Läs mer om utställningen. \nVåra guidade visningar ingår alltid i entréavgiften.
URL:https://hallandskonstmuseum.se/evenemang/guidad-visning-eufemia/2026-02-22/
CATEGORIES:Aktivitet,Utställning
ATTACH;FMTTYPE=image/jpeg:https://hallandskonstmuseum.se/wp-content/uploads/2025/12/Eufemia_gruppbild_logga-1-scaled.jpg
END:VEVENT
BEGIN:VEVENT
DTSTART;TZID=Europe/Stockholm:20260219T140000
DTEND;TZID=Europe/Stockholm:20260219T160000
DTSTAMP:20260421T204405
CREATED:20260122T134417Z
LAST-MODIFIED:20260122T135613Z
UID:10002720-1771509600-1771516800@hallandskonstmuseum.se
SUMMARY:Sportlovsworkshop: Väv med peg loom tillsammans med Sofie Karlsson!
DESCRIPTION:Med inspiration av utställningen Eufemia bjuder vi in till vävworkshop för barn och ungdomar mellan 6 och 14 år. Textilkonstnären Sofie Karlsson lär dig väva med en så kallad peg loom\, en rolig och enkel teknik som påminner om fingervirkning. Kom och skapa unika och färgstarka textila bilder och objekt! Inga förkunskaper krävs. \nFri entré för barn och ungdomar\, medföljande vuxen ordinarie entréavgift. Begränsat antal platser. Förboka för att säkra din plats via bokning@hallandskonstmuseum.se eller tel 035-16 23 00. \nI samarbete med Unga Slöjdares Salong\, Rian designmuseum och Region Halland. \n \n  \n 
URL:https://hallandskonstmuseum.se/evenemang/sportlovsworkshop-vav-med-peg-loom/
CATEGORIES:Aktivitet,Utställning
ATTACH;FMTTYPE=image/jpeg:https://hallandskonstmuseum.se/wp-content/uploads/2026/01/Vavkurs_sportlov.jpg
END:VEVENT
BEGIN:VEVENT
DTSTART;TZID=Europe/Stockholm:20260215T143000
DTEND;TZID=Europe/Stockholm:20260215T151500
DTSTAMP:20260421T204405
CREATED:20251219T141021Z
LAST-MODIFIED:20260108T112906Z
UID:10002337-1771165800-1771168500@hallandskonstmuseum.se
SUMMARY:Guidad visning – Eufemia
DESCRIPTION:I början av 1980-talet gick en grupp kvinnliga textilkonstnärer samman under namnet Eufemia. Nu lyfter Hallands Konstmuseum fram detta kapitel i Hallands konsthistoria\, på samma plats där allt en gång började. Läs mer om utställningen. \nVåra guidade visningar ingår alltid i entréavgiften.
URL:https://hallandskonstmuseum.se/evenemang/guidad-visning-eufemia/2026-02-15/
CATEGORIES:Aktivitet,Utställning
ATTACH;FMTTYPE=image/jpeg:https://hallandskonstmuseum.se/wp-content/uploads/2025/12/Eufemia_gruppbild_logga-1-scaled.jpg
END:VEVENT
BEGIN:VEVENT
DTSTART;TZID=Europe/Stockholm:20260208T143000
DTEND;TZID=Europe/Stockholm:20260208T151500
DTSTAMP:20260421T204405
CREATED:20251219T141021Z
LAST-MODIFIED:20260108T112906Z
UID:10002336-1770561000-1770563700@hallandskonstmuseum.se
SUMMARY:Guidad visning – Eufemia
DESCRIPTION:I början av 1980-talet gick en grupp kvinnliga textilkonstnärer samman under namnet Eufemia. Nu lyfter Hallands Konstmuseum fram detta kapitel i Hallands konsthistoria\, på samma plats där allt en gång började. Läs mer om utställningen. \nVåra guidade visningar ingår alltid i entréavgiften.
URL:https://hallandskonstmuseum.se/evenemang/guidad-visning-eufemia/2026-02-08/
CATEGORIES:Aktivitet,Utställning
ATTACH;FMTTYPE=image/jpeg:https://hallandskonstmuseum.se/wp-content/uploads/2025/12/Eufemia_gruppbild_logga-1-scaled.jpg
END:VEVENT
END:VCALENDAR