BEGIN:VCALENDAR
VERSION:2.0
PRODID:-//Hallands Konstmuseum - ECPv6.15.20//NONSGML v1.0//EN
CALSCALE:GREGORIAN
METHOD:PUBLISH
X-ORIGINAL-URL:https://hallandskonstmuseum.se
X-WR-CALDESC:Händelser för Hallands Konstmuseum
REFRESH-INTERVAL;VALUE=DURATION:PT1H
X-Robots-Tag:noindex
X-PUBLISHED-TTL:PT1H
BEGIN:VTIMEZONE
TZID:Europe/Stockholm
BEGIN:DAYLIGHT
TZOFFSETFROM:+0100
TZOFFSETTO:+0200
TZNAME:CEST
DTSTART:20240331T010000
END:DAYLIGHT
BEGIN:STANDARD
TZOFFSETFROM:+0200
TZOFFSETTO:+0100
TZNAME:CET
DTSTART:20241027T010000
END:STANDARD
BEGIN:DAYLIGHT
TZOFFSETFROM:+0100
TZOFFSETTO:+0200
TZNAME:CEST
DTSTART:20250330T010000
END:DAYLIGHT
BEGIN:STANDARD
TZOFFSETFROM:+0200
TZOFFSETTO:+0100
TZNAME:CET
DTSTART:20251026T010000
END:STANDARD
BEGIN:DAYLIGHT
TZOFFSETFROM:+0100
TZOFFSETTO:+0200
TZNAME:CEST
DTSTART:20260329T010000
END:DAYLIGHT
BEGIN:STANDARD
TZOFFSETFROM:+0200
TZOFFSETTO:+0100
TZNAME:CET
DTSTART:20261025T010000
END:STANDARD
END:VTIMEZONE
BEGIN:VEVENT
DTSTART;TZID=Europe/Stockholm:20250531T143000
DTEND;TZID=Europe/Stockholm:20250531T151500
DTSTAMP:20260420T213439
CREATED:20250509T114748Z
LAST-MODIFIED:20250509T115031Z
UID:10001735-1748701800-1748704500@hallandskonstmuseum.se
SUMMARY:Guidad visning Expedition Konst
DESCRIPTION:Expedition Konst är en samlingsutställning med verk av 13 svenska konstnärer som alla deltagit i Polarforskningssekretariatets konstprogram. I utställningen får du ta del av verk som skapats i samband med expeditioner. \nVåra guidade visningar ingår alltid i entréavgiften. \nLäs mer om utställningen.
URL:https://hallandskonstmuseum.se/evenemang/guidad-visning-expedition-konst/
LOCATION:Hallands Konstmusem\, Tollsgatan 2\, Halmstad\, 302 32\, Sweden
CATEGORIES:Aktivitet,Utställning
ATTACH;FMTTYPE=image/jpeg:https://hallandskonstmuseum.se/wp-content/uploads/2025/03/Lars-Lerin_Snow-hill-II_press.jpg
END:VEVENT
END:VCALENDAR